| Back to the "Multiple platform build/check report" | A B C D E F G H [I] J K L M N O P Q R S T U V W X Y Z | 
| Package 332/658 | Hostname | OS / Arch | BUILD | CHECK | BUILD BIN | ||||
| illuminaio 0.1.5 Kasper Daniel Hansen 
  | george2 | Linux (Ubuntu 12.04.1 LTS) / x86_64 | OK | OK | |||||
| moscato2 | Windows Server 2008 R2 Enterprise SP1 (64-bit) / x64 | [ OK ] | OK | OK | |||||
| petty | Mac OS X Leopard (10.5.8) / i386 | OK | OK | OK | 
| Package: illuminaio | 
| Version: 0.1.5 | 
| Command: chmod a+r illuminaio -R && E:\biocbld\bbs-2.12-bioc\R\bin\R.exe CMD build --keep-empty-dirs --no-resave-data illuminaio | 
| StartedAt: 2013-03-25 00:28:18 -0700 (Mon, 25 Mar 2013) | 
| EndedAt: 2013-03-25 00:28:24 -0700 (Mon, 25 Mar 2013) | 
| EllapsedTime: 5.7 seconds | 
| RetCode: 0 | 
| Status: OK | 
| PackageFile: illuminaio_0.1.5.tar.gz | 
| PackageFileSize: 4.762 MiB | 
* checking for file 'illuminaio/DESCRIPTION' ... OK * preparing 'illuminaio': * checking DESCRIPTION meta-information ... OK * checking for LF line-endings in source and make files * checking for empty or unneeded directories * building 'illuminaio_0.1.5.tar.gz'