iFlow 2.11.1 Kyongryun Lee
 | Snapshot Date: 2013-03-24 17:01:43 -0700 (Sun, 24 Mar 2013) |  | URL: https://hedgehog.fhcrc.org/bioconductor/trunk/madman/Rpacks/iFlow |  | Last Changed Rev: 72508 / Revision: 74774 |  | Last Changed Date: 2013-01-14 11:47:36 -0800 (Mon, 14 Jan 2013) |  
  | george2  | Linux (Ubuntu 12.04.1 LTS) / x86_64  | [ OK ] |  WARNINGS  |  | 
| moscato2  | Windows Server 2008 R2 Enterprise SP1 (64-bit) / x64  | N O T   S U P P O R T E D | 
| petty  | Mac OS X Leopard (10.5.8) / i386  |  OK  |  WARNINGS  |  OK  | 
* checking for file ‘iFlow/DESCRIPTION’ ... OK
* preparing ‘iFlow’:
* checking DESCRIPTION meta-information ... OK
* installing the package to re-build vignettes
* creating vignettes ... OK
* checking for LF line-endings in source and make files
* checking for empty or unneeded directories
* building ‘iFlow_2.11.1.tar.gz’