genoset 1.11.26 Peter M. Haverty
 | Snapshot Date: 2013-03-24 17:01:43 -0700 (Sun, 24 Mar 2013) |  | URL: https://hedgehog.fhcrc.org/bioconductor/trunk/madman/Rpacks/genoset |  | Last Changed Rev: 73833 / Revision: 74774 |  | Last Changed Date: 2013-02-28 12:44:05 -0800 (Thu, 28 Feb 2013) |  
  | george2  | Linux (Ubuntu 12.04.1 LTS) / x86_64  |  OK  |  OK  |  | 
| moscato2  | Windows Server 2008 R2 Enterprise SP1 (64-bit) / x64  |  OK  |  OK  |  OK  | 
| petty  | Mac OS X Leopard (10.5.8) / i386  |  OK  | [ OK ] |  OK  | 
* using log directory '/Users/biocbuild/bbs-2.12-bioc/meat/genoset.Rcheck'
* using R Under development (unstable) (2013-02-26 r62077)
* using platform: i386-apple-darwin9.8.0 (32-bit)
* using session charset: ASCII
* using option '--no-vignettes'
* checking for file 'genoset/DESCRIPTION' ... OK
* checking extension type ... Package
* this is package 'genoset' version '1.11.26'
* checking package namespace information ... OK
* checking package dependencies ... OK
* checking if this is a source package ... OK
* checking if there is a namespace ... OK
* checking for hidden files and directories ... OK
* checking for portable file names ... OK
* checking for sufficient/correct file permissions ... OK
* checking whether package 'genoset' can be installed ... [34s/34s] OK
* checking installed package size ... OK
* checking package directory ... OK
* checking DESCRIPTION meta-information ... OK
* checking top-level files ... OK
* checking for left-over files ... OK
* checking index information ... OK
* checking package subdirectories ... OK
* checking R files for non-ASCII characters ... OK
* checking R files for syntax errors ... OK
* checking whether the package can be loaded ... OK
* checking whether the package can be loaded with stated dependencies ... OK
* checking whether the package can be unloaded cleanly ... OK
* checking whether the namespace can be loaded with stated dependencies ... OK
* checking whether the namespace can be unloaded cleanly ... OK
* checking for unstated dependencies in R code ... OK
* checking S3 generic/method consistency ... OK
* checking replacement functions ... OK
* checking foreign function calls ... OK
* checking R code for possible problems ... OK
* checking Rd files ... OK
* checking Rd metadata ... OK
* checking Rd cross-references ... OK
* checking for missing documentation entries ... OK
* checking for code/documentation mismatches ... OK
* checking Rd \usage sections ... OK
* checking Rd contents ... OK
* checking for unstated dependencies in examples ... OK
* checking contents of 'data' directory ... OK
* checking data for non-ASCII characters ... OK
* checking data for ASCII and uncompressed saves ... OK
* checking line endings in C/C++/Fortran sources/headers ... OK
* checking line endings in Makefiles ... OK
* checking for portable use of $(BLAS_LIBS) and $(LAPACK_LIBS) ... OK
* checking compiled code ... OK
* checking sizes of PDF files under 'inst/doc' ... OK
* checking installed files from 'inst/doc' ... OK
* checking examples ... [21s/21s] OK
* checking for unstated dependencies in tests ... OK
* checking tests ...
  Running 'prove.R' [52s/46s]
  Comparing 'prove.Rout' to 'prove.Rout.save' ...7,13c7
< The following objects are masked from 'package:parallel':
< 
<     clusterApply, clusterApplyLB, clusterCall, clusterEvalQ,
<     clusterExport, clusterMap, parApply, parCapply, parLapply,
<     parLapplyLB, parRapply, parSapply, parSapplyLB
< 
< The following object is masked from 'package:stats':
---
> The following object(s) are masked from 'package:stats':
17c11
< The following objects are masked from 'package:base':
---
> The following object(s) are masked from 'package:base':
19,23c13,16
<     Filter, Find, Map, Position, Reduce, anyDuplicated, as.data.frame,
<     cbind, colnames, duplicated, eval, get, intersect, lapply, mapply,
<     match, mget, order, paste, pmax, pmax.int, pmin, pmin.int, rank,
<     rbind, rep.int, rownames, sapply, setdiff, sort, table, tapply,
<     union, unique, unlist
---
>     Filter, Find, Map, Position, Reduce, anyDuplicated, cbind,
>     colnames, duplicated, eval, get, intersect, lapply, mapply, mget,
>     order, paste, pmax, pmax.int, pmin, pmin.int, rbind, rep.int,
>     rownames, sapply, setdiff, table, tapply, union, unique
30a24,30
> 
> Attaching package: 'Biobase'
> 
> The following object(s) are masked from 'package:BiocGenerics':
> 
>     annotation, annotation<-
> 
31a32,33
> Warning message:
> replacing previous import 'annotation' when loading 'Biobase' 
66c68
< RUNIT TEST PROTOCOL -- Mon Mar 25 02:46:01 2013 
---
> RUNIT TEST PROTOCOL -- Thu Oct 25 19:26:26 2012 
78c80
< There were 50 or more warnings (use warnings() to see the first 50)
---
> There were 37 warnings (use warnings() to see them)
 [52s/46s] OK
* checking for unstated dependencies in vignettes ... OK
* checking package vignettes in 'inst/doc' ... OK
* checking running R code from vignettes ... SKIPPED
* checking re-building of vignettes ... SKIPPED
* checking PDF version of manual ... OK