flowStats 1.17.8 Greg Finak  and Mike Jiang
 | Snapshot Date: 2013-03-24 17:01:43 -0700 (Sun, 24 Mar 2013) |  | URL: https://hedgehog.fhcrc.org/bioconductor/trunk/madman/Rpacks/flowStats |  | Last Changed Rev: 74423 / Revision: 74774 |  | Last Changed Date: 2013-03-15 15:07:45 -0700 (Fri, 15 Mar 2013) |  
  | george2  | Linux (Ubuntu 12.04.1 LTS) / x86_64  | [ OK ] |  OK  |  | 
| moscato2  | Windows Server 2008 R2 Enterprise SP1 (64-bit) / x64  | N O T   S U P P O R T E D | 
| petty  | Mac OS X Leopard (10.5.8) / i386  |  OK  |  OK  |  OK  | 
* checking for file ‘flowStats/DESCRIPTION’ ... OK
* preparing ‘flowStats’:
* checking DESCRIPTION meta-information ... OK
* installing the package to re-build vignettes
* creating vignettes ... OK
* checking for LF line-endings in source and make files
* checking for empty or unneeded directories
* looking to see if a ‘data/datalist’ file should be added
* building ‘flowStats_1.17.8.tar.gz’