flowMeans 1.11.1 Nima Aghaeepour
 | Snapshot Date: 2013-03-24 17:01:43 -0700 (Sun, 24 Mar 2013) |  | URL: https://hedgehog.fhcrc.org/bioconductor/trunk/madman/Rpacks/flowMeans |  | Last Changed Rev: 70201 / Revision: 74774 |  | Last Changed Date: 2012-10-04 13:12:09 -0700 (Thu, 04 Oct 2012) |  
  | george2  | Linux (Ubuntu 12.04.1 LTS) / x86_64  |  OK  |  OK  |  | 
| moscato2  | Windows Server 2008 R2 Enterprise SP1 (64-bit) / x64  |  OK  |  OK  |  OK  | 
| petty  | Mac OS X Leopard (10.5.8) / i386  |  OK  |  OK  | [ OK ] | 
>>>>>>> 
>>>>>>> INSTALLATION WITH 'R CMD INSTALL --preclean --no-multiarch --library=flowMeans.buildbin-libdir flowMeans_1.11.1.tar.gz'
>>>>>>> 
* installing *source* package 'flowMeans' ...
** R
** data
** inst
** preparing package for lazy loading
Creating a generic function for 'summary' from package 'base' in package 'flowMeans'
** help
*** installing help indices
** building package indices
** installing vignettes
   'flowMeans.Rnw' 
** testing if installed package can be loaded
* DONE (flowMeans)