deepSNV 1.5.0 Moritz Gerstung
 | Snapshot Date: 2013-03-24 17:01:43 -0700 (Sun, 24 Mar 2013) |  | URL: https://hedgehog.fhcrc.org/bioconductor/trunk/madman/Rpacks/deepSNV |  | Last Changed Rev: 70602 / Revision: 74774 |  | Last Changed Date: 2012-10-17 04:03:33 -0700 (Wed, 17 Oct 2012) |  
  | george2  | Linux (Ubuntu 12.04.1 LTS) / x86_64  |  OK  |  OK  |  | 
| moscato2  | Windows Server 2008 R2 Enterprise SP1 (64-bit) / x64  |  OK  |  OK  | [ OK ] | 
| petty  | Mac OS X Leopard (10.5.8) / i386  |  OK  |  OK  |  OK  | 
install for i386
* installing *source* package 'deepSNV' ...
   **********************************************
   WARNING: this package has a configure script
         It probably needs manual configuration
   **********************************************
** libs
g++ -m32 -I"E:/biocbld/bbs-2.12-bioc/R/library/zlibbioc/include" -I"E:/biocbld/BBS-2˜1.12-/R/include" -DNDEBUG -D_USE_KNETFILE -D_FILE_OFFSET_BITS=64 -D_USE_KNETFILE -D_FILE_OFFSET_BITS=64 -D_LARGEFILE64_SOURCE   -I"E:/biocbld/bbs-2.12-bioc/R/library/Rsamtools/include" -I"d:/RCompile/CRANpkg/extralibs64/local/include"     -O2 -Wall  -mtune=core2 -c bam2R.cpp -o bam2R.o
bam2R.cpp: In function 'int bam2R(char**, char**, int*, int*, int*, int*, int*, int*, int*)':
bam2R.cpp:85:6: warning: unused variable 'c' [-Wunused-variable]
g++ -m32 -shared -s -static-libgcc -o deepSNV.dll tmp.def bam2R.o E:/biocbld/bbs-2.12-bioc/R/library/Rsamtools/usrlib/i386/libbam.a E:/biocbld/bbs-2.12-bioc/R/library/Rsamtools/usrlib/i386/libbam.a E:/biocbld/bbs-2.12-bioc/R/library/Rsamtools/usrlib/i386/libbcf.a E:/biocbld/bbs-2.12-bioc/R/library/Rsamtools/usrlib/i386/libtabix.a -lws2_32 -pthread -LE:/biocbld/bbs-2.12-bioc/R/library/zlibbioc/libs/i386 -lzlib1bioc -Ld:/RCompile/CRANpkg/extralibs64/local/lib/i386 -Ld:/RCompile/CRANpkg/extralibs64/local/lib -LE:/biocbld/BBS-2˜1.12-/R/bin/i386 -lR
installing to E:/biocbld/bbs-2.12-bioc/meat/deepSNV.buildbin-libdir/deepSNV/libs/i386
** R
** data
** inst
** preparing package for lazy loading
** help
*** installing help indices
** building package indices
** installing vignettes
   'deepSNV.Rnw' 
** testing if installed package can be loaded
install for x64
* installing *source* package 'deepSNV' ...
   **********************************************
   WARNING: this package has a configure script
         It probably needs manual configuration
   **********************************************
** libs
g++ -m64 -I"E:/biocbld/bbs-2.12-bioc/R/library/zlibbioc/include" -I"E:/biocbld/BBS-2˜1.12-/R/include" -DNDEBUG -D_USE_KNETFILE -D_FILE_OFFSET_BITS=64 -D_USE_KNETFILE -D_FILE_OFFSET_BITS=64 -D_LARGEFILE64_SOURCE   -I"E:/biocbld/bbs-2.12-bioc/R/library/Rsamtools/include" -I"d:/RCompile/CRANpkg/extralibs64/local/include"     -O2 -Wall  -mtune=core2 -c bam2R.cpp -o bam2R.o
bam2R.cpp: In function 'int bam2R(char**, char**, int*, int*, int*, int*, int*, int*, int*)':
bam2R.cpp:85:6: warning: unused variable 'c' [-Wunused-variable]
g++ -m64 -shared -s -static-libgcc -o deepSNV.dll tmp.def bam2R.o E:/biocbld/bbs-2.12-bioc/R/library/Rsamtools/usrlib/x64/libbam.a E:/biocbld/bbs-2.12-bioc/R/library/Rsamtools/usrlib/x64/libbam.a E:/biocbld/bbs-2.12-bioc/R/library/Rsamtools/usrlib/x64/libbcf.a E:/biocbld/bbs-2.12-bioc/R/library/Rsamtools/usrlib/x64/libtabix.a -lws2_32 -pthread -LE:/biocbld/bbs-2.12-bioc/R/library/zlibbioc/libs/x64 -lzlib1bioc -Ld:/RCompile/CRANpkg/extralibs64/local/lib/x64 -Ld:/RCompile/CRANpkg/extralibs64/local/lib -LE:/biocbld/BBS-2˜1.12-/R/bin/x64 -lR
installing to E:/biocbld/bbs-2.12-bioc/meat/deepSNV.buildbin-libdir/deepSNV/libs/x64
** testing if installed package can be loaded
* MD5 sums
packaged installation of 'deepSNV' as deepSNV_1.5.0.zip
* DONE (deepSNV)