convert 1.35.0 Yee Hwa (Jean) Yang
 | Snapshot Date: 2013-03-24 17:01:43 -0700 (Sun, 24 Mar 2013) |  | URL: https://hedgehog.fhcrc.org/bioconductor/trunk/madman/Rpacks/convert |  | Last Changed Rev: 72048 / Revision: 74774 |  | Last Changed Date: 2012-12-19 09:59:39 -0800 (Wed, 19 Dec 2012) |  
  | george2  | Linux (Ubuntu 12.04.1 LTS) / x86_64  |  OK  |  OK  |  | 
| moscato2  | Windows Server 2008 R2 Enterprise SP1 (64-bit) / x64  |  OK  |  OK  |  OK  | 
| petty  | Mac OS X Leopard (10.5.8) / i386  |  OK  |  OK  | [ OK ] | 
>>>>>>> 
>>>>>>> INSTALLATION WITH 'R CMD INSTALL --preclean --no-multiarch --library=convert.buildbin-libdir convert_1.35.0.tar.gz'
>>>>>>> 
* installing *source* package 'convert' ...
** R
** inst
** preparing package for lazy loading
** help
*** installing help indices
** building package indices
** installing vignettes
   'convert.Rnw' 
** testing if installed package can be loaded
* DONE (convert)