bsseq 0.7.5 Kasper Daniel Hansen
 | Snapshot Date: 2013-03-24 17:01:43 -0700 (Sun, 24 Mar 2013) |  | URL: https://hedgehog.fhcrc.org/bioconductor/trunk/madman/Rpacks/bsseq |  | Last Changed Rev: 73977 / Revision: 74774 |  | Last Changed Date: 2013-03-06 11:03:51 -0800 (Wed, 06 Mar 2013) |  
  | george2  | Linux (Ubuntu 12.04.1 LTS) / x86_64  |  OK  |  OK  |  | 
| moscato2  | Windows Server 2008 R2 Enterprise SP1 (64-bit) / x64  |  OK  |  OK  |  OK  | 
| petty  | Mac OS X Leopard (10.5.8) / i386  |  OK  |  OK  | [ OK ] | 
>>>>>>> 
>>>>>>> INSTALLATION WITH 'R CMD INSTALL --preclean --no-multiarch --library=bsseq.buildbin-libdir bsseq_0.7.5.tar.gz'
>>>>>>> 
* installing *source* package 'bsseq' ...
** R
** data
*** moving datasets to lazyload DB
** inst
** preparing package for lazy loading
** help
*** installing help indices
** building package indices
** installing vignettes
   'bsseq.Rnw' 
   'bsseq_analysis.Rnw' 
** testing if installed package can be loaded
* DONE (bsseq)