bgx 1.23.0 Ernest Turro
 | Snapshot Date: 2013-03-24 17:01:43 -0700 (Sun, 24 Mar 2013) |  | URL: https://hedgehog.fhcrc.org/bioconductor/trunk/madman/Rpacks/bgx |  | Last Changed Rev: 70052 / Revision: 74774 |  | Last Changed Date: 2012-10-01 15:43:56 -0700 (Mon, 01 Oct 2012) |  
  | george2  | Linux (Ubuntu 12.04.1 LTS) / x86_64  |  OK  |  WARNINGS  |  | 
| moscato2  | Windows Server 2008 R2 Enterprise SP1 (64-bit) / x64  |  OK  |  OK  | [ OK ] | 
| petty  | Mac OS X Leopard (10.5.8) / i386  |  OK  |  WARNINGS  |  OK  | 
install for i386
* installing *source* package 'bgx' ...
** libs
g++ -m32 -I"E:/biocbld/BBS-2˜1.12-/R/include" -DNDEBUG -I ../boostIncl    -I"d:/RCompile/CRANpkg/extralibs64/local/include"  -DUSING_R -ffast-math -O3   -O2 -Wall  -mtune=core2 -c bgx.cc -o bgx.o
g++ -m32 -I"E:/biocbld/BBS-2˜1.12-/R/include" -DNDEBUG -I ../boostIncl    -I"d:/RCompile/CRANpkg/extralibs64/local/include"  -DUSING_R -ffast-math -O3   -O2 -Wall  -mtune=core2 -c bgx_frontend.cc -o bgx_frontend.o
gcc -m32 -I"E:/biocbld/BBS-2˜1.12-/R/include" -DNDEBUG -I ../boostIncl    -I"d:/RCompile/CRANpkg/extralibs64/local/include"  -DUSING_R -ffast-math -O3  -std=c99   -O3 -Wall  -std=gnu99 -mtune=core2 -c qnorm.c -o qnorm.o
g++ -m32 -I"E:/biocbld/BBS-2˜1.12-/R/include" -DNDEBUG -I ../boostIncl    -I"d:/RCompile/CRANpkg/extralibs64/local/include"  -DUSING_R -ffast-math -O3   -O2 -Wall  -mtune=core2 -c rundir.cc -o rundir.o
g++ -m32 -I"E:/biocbld/BBS-2˜1.12-/R/include" -DNDEBUG -I ../boostIncl    -I"d:/RCompile/CRANpkg/extralibs64/local/include"  -DUSING_R -ffast-math -O3   -O2 -Wall  -mtune=core2 -c sokal.cc -o sokal.o
g++ -m32 -shared -s -static-libgcc -o bgx.dll tmp.def bgx.o bgx_frontend.o qnorm.o rundir.o sokal.o -Ld:/RCompile/CRANpkg/extralibs64/local/lib/i386 -Ld:/RCompile/CRANpkg/extralibs64/local/lib -LE:/biocbld/BBS-2˜1.12-/R/bin/i386 -lR
installing to E:/biocbld/bbs-2.12-bioc/meat/bgx.buildbin-libdir/bgx/libs/i386
** R
** inst
** preparing package for lazy loading
** help
*** installing help indices
** building package indices
** installing vignettes
   'bgx.Rnw' 
** testing if installed package can be loaded
install for x64
* installing *source* package 'bgx' ...
** libs
g++ -m64 -I"E:/biocbld/BBS-2˜1.12-/R/include" -DNDEBUG -I ../boostIncl    -I"d:/RCompile/CRANpkg/extralibs64/local/include"  -DUSING_R -ffast-math -O3   -O2 -Wall  -mtune=core2 -c bgx.cc -o bgx.o
g++ -m64 -I"E:/biocbld/BBS-2˜1.12-/R/include" -DNDEBUG -I ../boostIncl    -I"d:/RCompile/CRANpkg/extralibs64/local/include"  -DUSING_R -ffast-math -O3   -O2 -Wall  -mtune=core2 -c bgx_frontend.cc -o bgx_frontend.o
gcc -m64 -I"E:/biocbld/BBS-2˜1.12-/R/include" -DNDEBUG -I ../boostIncl    -I"d:/RCompile/CRANpkg/extralibs64/local/include"  -DUSING_R -ffast-math -O3  -std=c99   -O2 -Wall  -std=gnu99 -mtune=core2 -c qnorm.c -o qnorm.o
g++ -m64 -I"E:/biocbld/BBS-2˜1.12-/R/include" -DNDEBUG -I ../boostIncl    -I"d:/RCompile/CRANpkg/extralibs64/local/include"  -DUSING_R -ffast-math -O3   -O2 -Wall  -mtune=core2 -c rundir.cc -o rundir.o
g++ -m64 -I"E:/biocbld/BBS-2˜1.12-/R/include" -DNDEBUG -I ../boostIncl    -I"d:/RCompile/CRANpkg/extralibs64/local/include"  -DUSING_R -ffast-math -O3   -O2 -Wall  -mtune=core2 -c sokal.cc -o sokal.o
g++ -m64 -shared -s -static-libgcc -o bgx.dll tmp.def bgx.o bgx_frontend.o qnorm.o rundir.o sokal.o -Ld:/RCompile/CRANpkg/extralibs64/local/lib/x64 -Ld:/RCompile/CRANpkg/extralibs64/local/lib -LE:/biocbld/BBS-2˜1.12-/R/bin/x64 -lR
installing to E:/biocbld/bbs-2.12-bioc/meat/bgx.buildbin-libdir/bgx/libs/x64
** testing if installed package can be loaded
* MD5 sums
packaged installation of 'bgx' as bgx_1.23.0.zip
* DONE (bgx)