arrayMvout 1.17.0 V. Carey
 | Snapshot Date: 2013-03-23 17:02:20 -0700 (Sat, 23 Mar 2013) |  | URL: https://hedgehog.fhcrc.org/bioconductor/trunk/madman/Rpacks/arrayMvout |  | Last Changed Rev: 70052 / Revision: 74756 |  | Last Changed Date: 2012-10-01 15:43:56 -0700 (Mon, 01 Oct 2012) |  
  | george2  | Linux (Ubuntu 12.04.1 LTS) / x86_64  |  OK  |  OK  |  | 
| moscato2  | Windows Server 2008 R2 Enterprise SP1 (64-bit) / x64  |  OK  |  OK  |  OK  | 
| petty  | Mac OS X Leopard (10.5.8) / i386  |  OK  |  OK  |  OK  | 
| pelham  | Mac OS X Snow Leopard (10.6.8) / x86_64  |  OK  |  OK  | [ OK ] | 
* installing *source* package 'arrayMvout' ...
** R
** data
** inst
** preparing package for lazy loading
Warning: replacing previous import 'image' when loading 'graphics'
Warning: replacing previous import 'nleqslv' when loading 'nleqslv'
No methods found in "Biobase" for requests: geneNames
** help
*** installing help indices
** building package indices
** installing vignettes
   'arrayMvout.Rnw' 
** testing if installed package can be loaded
Warning: replacing previous import 'image' when loading 'graphics'
Warning: replacing previous import 'nleqslv' when loading 'nleqslv'
No methods found in "Biobase" for requests: geneNames
packaged installation of 'arrayMvout' as 'arrayMvout_1.17.0.tgz'
* DONE (arrayMvout)