| Back to the "Multiple platform build/check report" | [A] B C D E F G H I J K L M N O P Q R S T U V W X Y Z | 
| Package 20/658 | Hostname | OS / Arch | BUILD | CHECK | BUILD BIN | ||||
| affyio 1.27.1 Benjamin Milo Bolstad 
  | george2 | Linux (Ubuntu 12.04.1 LTS) / x86_64 | [ OK ] | OK | |||||
| moscato2 | Windows Server 2008 R2 Enterprise SP1 (64-bit) / x64 | OK | OK | OK | |||||
| petty | Mac OS X Leopard (10.5.8) / i386 | OK | OK | OK | 
| Package: affyio | 
| Version: 1.27.1 | 
| Command: /home/biocbuild/bbs-2.12-bioc/R/bin/R CMD build --keep-empty-dirs --no-resave-data affyio | 
| StartedAt: 2013-03-24 21:05:11 -0700 (Sun, 24 Mar 2013) | 
| EndedAt: 2013-03-24 21:05:12 -0700 (Sun, 24 Mar 2013) | 
| EllapsedTime: 0.9 seconds | 
| RetCode: 0 | 
| Status: OK | 
| PackageFile: affyio_1.27.1.tar.gz | 
| PackageFileSize: 110.7 KiB | 
* checking for file ‘affyio/DESCRIPTION’ ... OK * preparing ‘affyio’: * checking DESCRIPTION meta-information ... OK * cleaning src * checking for LF line-endings in source and make files * checking for empty or unneeded directories * building ‘affyio_1.27.1.tar.gz’