TEQC 2.7.3 Manuela Hummel
 | Snapshot Date: 2013-03-23 17:02:20 -0700 (Sat, 23 Mar 2013) |  | URL: https://hedgehog.fhcrc.org/bioconductor/trunk/madman/Rpacks/TEQC |  | Last Changed Rev: 72364 / Revision: 74756 |  | Last Changed Date: 2013-01-08 04:53:20 -0800 (Tue, 08 Jan 2013) |  
  | george2  | Linux (Ubuntu 12.04.1 LTS) / x86_64  |  OK  |  OK  |  | 
| moscato2  | Windows Server 2008 R2 Enterprise SP1 (64-bit) / x64  |  OK  |  OK  |  OK  | 
| petty  | Mac OS X Leopard (10.5.8) / i386  |  OK  |  OK  |  OK  | 
| pelham  | Mac OS X Snow Leopard (10.6.8) / x86_64  | [ OK ] |  OK  |  OK  | 
* checking for file 'TEQC/DESCRIPTION' ... OK
* preparing 'TEQC':
* checking DESCRIPTION meta-information ... OK
* installing the package to re-build vignettes
* creating vignettes ... OK
* checking for LF line-endings in source and make files
* checking for empty or unneeded directories
* building 'TEQC_2.7.3.tar.gz'