SNAGEE 0.99.1 David Venet
 | Snapshot Date: 2013-03-24 17:01:43 -0700 (Sun, 24 Mar 2013) |  | URL: https://hedgehog.fhcrc.org/bioconductor/trunk/madman/Rpacks/SNAGEE |  | Last Changed Rev: 71455 / Revision: 74774 |  | Last Changed Date: 2012-11-26 06:14:27 -0800 (Mon, 26 Nov 2012) |  
  | george2  | Linux (Ubuntu 12.04.1 LTS) / x86_64  | [ OK ] |  OK  |  | 
| moscato2  | Windows Server 2008 R2 Enterprise SP1 (64-bit) / x64  |  OK  |  OK  |  OK  | 
| petty  | Mac OS X Leopard (10.5.8) / i386  |  OK  |  OK  |  OK  | 
* checking for file ‘SNAGEE/DESCRIPTION’ ... OK
* preparing ‘SNAGEE’:
* checking DESCRIPTION meta-information ... OK
* installing the package to re-build vignettes
* creating vignettes ... OK
* checking for LF line-endings in source and make files
* checking for empty or unneeded directories
* building ‘SNAGEE_0.99.1.tar.gz’