SLGI 1.19.0 Nolwenn Le Meur
 | Snapshot Date: 2013-03-24 17:01:43 -0700 (Sun, 24 Mar 2013) |  | URL: https://hedgehog.fhcrc.org/bioconductor/trunk/madman/Rpacks/SLGI |  | Last Changed Rev: 70052 / Revision: 74774 |  | Last Changed Date: 2012-10-01 15:43:56 -0700 (Mon, 01 Oct 2012) |  
  | george2  | Linux (Ubuntu 12.04.1 LTS) / x86_64  |  OK  |  OK  |  | 
| moscato2  | Windows Server 2008 R2 Enterprise SP1 (64-bit) / x64  |  OK  |  OK  |  OK  | 
| petty  | Mac OS X Leopard (10.5.8) / i386  |  OK  | [ OK ] |  OK  | 
* using log directory '/Users/biocbuild/bbs-2.12-bioc/meat/SLGI.Rcheck'
* using R Under development (unstable) (2013-02-26 r62077)
* using platform: i386-apple-darwin9.8.0 (32-bit)
* using session charset: ASCII
* using option '--no-vignettes'
* checking for file 'SLGI/DESCRIPTION' ... OK
* this is package 'SLGI' version '1.19.0'
* checking package namespace information ... OK
* checking package dependencies ... OK
* checking if this is a source package ... OK
* checking if there is a namespace ... OK
* checking for hidden files and directories ... OK
* checking for portable file names ... OK
* checking for sufficient/correct file permissions ... OK
* checking whether package 'SLGI' can be installed ... [21s/22s] OK
* checking installed package size ... NOTE
  installed size is 15.9Mb
  sub-directories of 1Mb or more:
    data      4.2Mb
    extdata  11.3Mb
* checking package directory ... OK
* checking DESCRIPTION meta-information ... OK
* checking top-level files ... OK
* checking for left-over files ... OK
* checking index information ... OK
* checking package subdirectories ... OK
* checking R files for non-ASCII characters ... OK
* checking R files for syntax errors ... OK
* checking whether the package can be loaded ... OK
* checking whether the package can be loaded with stated dependencies ... OK
* checking whether the package can be unloaded cleanly ... OK
* checking whether the namespace can be loaded with stated dependencies ... OK
* checking whether the namespace can be unloaded cleanly ... OK
* checking for unstated dependencies in R code ... OK
* checking S3 generic/method consistency ... OK
* checking replacement functions ... OK
* checking foreign function calls ... OK
* checking R code for possible problems ... OK
* checking Rd files ... OK
* checking Rd metadata ... OK
* checking Rd cross-references ... OK
* checking for missing documentation entries ... OK
* checking for code/documentation mismatches ... OK
* checking Rd \usage sections ... OK
* checking Rd contents ... OK
* checking for unstated dependencies in examples ... OK
* checking contents of 'data' directory ... OK
* checking data for non-ASCII characters ... OK
* checking data for ASCII and uncompressed saves ... OK
* checking sizes of PDF files under 'inst/doc' ... OK
* checking installed files from 'inst/doc' ... OK
* checking examples ... [336s/342s] OK
Examples with CPU or elapsed time > 5s
                  user system elapsed
siResult-class  35.196 17.261  53.457
iSummary        38.111 10.097  48.729
modelSLGI       29.433 16.916  47.653
plot            29.659 16.618  47.190
compare         24.956 16.864  42.524
topInteraction  20.407 10.683  31.696
normInteraction 12.958  9.920  23.826
twoWayTable     14.504  0.322  14.864
AtongFnDomain    6.923  0.186   7.142
* checking for unstated dependencies in vignettes ... OK
* checking package vignettes in 'inst/doc' ... OK
* checking running R code from vignettes ... SKIPPED
* checking re-building of vignettes ... SKIPPED
* checking PDF version of manual ... OK
NOTE: There was 1 note.
See
  '/Users/biocbuild/bbs-2.12-bioc/meat/SLGI.Rcheck/00check.log'
for details.
 
* installing *source* package 'SLGI' ...
** R
** data
** inst
** preparing package for lazy loading
No methods found in "BiocGenerics" for requests: plot
** help
*** installing help indices
** building package indices
** installing vignettes
   'SLGI.Rnw' 
** testing if installed package can be loaded
No methods found in "BiocGenerics" for requests: plot
* DONE (SLGI)