Risa 1.1.0 Alejandra Gonzalez-Beltran, ISA Team
 | Snapshot Date: 2013-03-24 17:01:43 -0700 (Sun, 24 Mar 2013) |  | URL: https://hedgehog.fhcrc.org/bioconductor/trunk/madman/Rpacks/Risa |  | Last Changed Rev: 74652 / Revision: 74774 |  | Last Changed Date: 2013-03-21 10:13:08 -0700 (Thu, 21 Mar 2013) |  
  | george2  | Linux (Ubuntu 12.04.1 LTS) / x86_64  |  OK  |  WARNINGS  |  | 
| moscato2  | Windows Server 2008 R2 Enterprise SP1 (64-bit) / x64  |  OK  |  OK  |  OK  | 
| petty  | Mac OS X Leopard (10.5.8) / i386  |  OK  |  OK  | [ OK ] | 
>>>>>>> 
>>>>>>> INSTALLATION WITH 'R CMD INSTALL --preclean --no-multiarch --library=Risa.buildbin-libdir Risa_1.1.0.tar.gz'
>>>>>>> 
* installing *source* package 'Risa' ...
** R
** inst
** preparing package for lazy loading
** help
*** installing help indices
** building package indices
** installing vignettes
   'Risa.Rnw' 
** testing if installed package can be loaded
* DONE (Risa)