ReQON 1.5.0 Christopher Cabanski
 | Snapshot Date: 2013-03-23 17:02:20 -0700 (Sat, 23 Mar 2013) |  | URL: https://hedgehog.fhcrc.org/bioconductor/trunk/madman/Rpacks/ReQON |  | Last Changed Rev: 72245 / Revision: 74756 |  | Last Changed Date: 2013-01-02 14:48:34 -0800 (Wed, 02 Jan 2013) |  
  | george2  | Linux (Ubuntu 12.04.1 LTS) / x86_64  |  OK  |  OK  |  | 
| moscato2  | Windows Server 2008 R2 Enterprise SP1 (64-bit) / x64  |  OK  |  OK  |  OK  | 
| petty  | Mac OS X Leopard (10.5.8) / i386  |  OK  |  OK  |  OK  | 
| pelham  | Mac OS X Snow Leopard (10.6.8) / x86_64  |  OK  |  OK  | [ OK ] | 
* installing *source* package 'ReQON' ...
** R
** inst
** preparing package for lazy loading
** help
*** installing help indices
** building package indices
** installing vignettes
   'ReQON.Rnw' 
** testing if installed package can be loaded
packaged installation of 'ReQON' as 'ReQON_1.5.0.tgz'
* DONE (ReQON)