Back to the "Multiple platform build/check report" A  B  C  D  E  F  G  H  I  J  K  L  M  N  O  P  Q [R] S  T  U  V  W  X  Y  Z 

Package 548/658HostnameOS / ArchBUILDCHECKBUILD BIN
RNAither 2.7.0
Nora Rieber
Snapshot Date: 2013-03-23 17:02:20 -0700 (Sat, 23 Mar 2013)
URL: https://hedgehog.fhcrc.org/bioconductor/trunk/madman/Rpacks/RNAither
Last Changed Rev: 70052 / Revision: 74756
Last Changed Date: 2012-10-01 15:43:56 -0700 (Mon, 01 Oct 2012)
george2 Linux (Ubuntu 12.04.1 LTS) / x86_64  OK  OK 
moscato2 Windows Server 2008 R2 Enterprise SP1 (64-bit) / x64  OK  OK  OK 
petty Mac OS X Leopard (10.5.8) / i386  OK  OK  OK 
pelham Mac OS X Snow Leopard (10.6.8) / x86_64  OK [ OK ] OK 

Summary

Package: RNAither
Version: 2.7.0
Command: /Library/Frameworks/R.framework/Versions/Current/Resources/bin/R CMD check --no-vignettes --timings --no-multiarch RNAither_2.7.0.tar.gz
StartedAt: 2013-03-24 09:50:26 -0700 (Sun, 24 Mar 2013)
EndedAt: 2013-03-24 09:58:50 -0700 (Sun, 24 Mar 2013)
EllapsedTime: 504.3 seconds
RetCode: 0
Status:  OK 
CheckDir: RNAither.Rcheck
Warnings: 0

Command output

* using log directory '/Users/biocbuild/bbs-2.12-bioc/meat/RNAither.Rcheck'
* using R version 3.0.0 beta (2013-03-21 r62346)
* using platform: x86_64-apple-darwin10.8.0 (64-bit)
* using session charset: ASCII
* using option '--no-vignettes'
* checking for file 'RNAither/DESCRIPTION' ... OK
* this is package 'RNAither' version '2.7.0'
* checking package namespace information ... OK
* checking package dependencies ... OK
* checking if this is a source package ... OK
* checking if there is a namespace ... OK
* checking for hidden files and directories ... OK
* checking for portable file names ... OK
* checking for sufficient/correct file permissions ... OK
* checking whether package 'RNAither' can be installed ... [32s/33s] OK
* checking installed package size ... OK
* checking package directory ... OK
* checking DESCRIPTION meta-information ... OK
* checking top-level files ... OK
* checking for left-over files ... OK
* checking index information ... OK
* checking package subdirectories ... NOTE
Found the following CITATION file in a non-standard place:
  inst/extdata/CITATION
Most likely 'inst/CITATION' should be used instead.
* checking R files for non-ASCII characters ... OK
* checking R files for syntax errors ... OK
* checking whether the package can be loaded ... OK
* checking whether the package can be loaded with stated dependencies ... OK
* checking whether the package can be unloaded cleanly ... OK
* checking whether the namespace can be loaded with stated dependencies ... OK
* checking whether the namespace can be unloaded cleanly ... OK
* checking for unstated dependencies in R code ... OK
* checking S3 generic/method consistency ... OK
* checking replacement functions ... OK
* checking foreign function calls ... OK
* checking R code for possible problems ... OK
* checking Rd files ... OK
* checking Rd metadata ... OK
* checking Rd cross-references ... OK
* checking for missing documentation entries ... OK
* checking for code/documentation mismatches ... OK
* checking Rd \usage sections ... OK
* checking Rd contents ... OK
* checking for unstated dependencies in examples ... OK
* checking contents of 'data' directory ... OK
* checking data for non-ASCII characters ... OK
* checking data for ASCII and uncompressed saves ... OK
* checking installed files from 'inst/doc' ... OK
* checking examples ... [116s/179s] OK
Examples with CPU or elapsed time > 5s
               user system elapsed
mainAnalysis 58.437  4.544  70.569
rnaither     16.692  0.732  18.523
gseaAnalysis  6.995  0.171  60.570
* checking for unstated dependencies in vignettes ... OK
* checking package vignettes in 'inst/doc' ... OK
* checking running R code from vignettes ... SKIPPED
* checking re-building of vignettes ... SKIPPED
* checking PDF version of manual ... OK

NOTE: There was 1 note.
See
  '/Users/biocbuild/bbs-2.12-bioc/meat/RNAither.Rcheck/00check.log'
for details.

RNAither.Rcheck/00install.out:

* installing *source* package 'RNAither' ...
** R
** data
** inst
** preparing package for lazy loading

groupGOTerms: 	GOBPTerm, GOMFTerm, GOCCTerm environments built.
** help
*** installing help indices
** building package indices
** installing vignettes
   'vignetteRNAither.Rnw' 
** testing if installed package can be loaded

groupGOTerms: 	GOBPTerm, GOMFTerm, GOCCTerm environments built.
* DONE (RNAither)

RNAither.Rcheck/RNAither-Ex.timings:

nameusersystemelapsed
BScore0.0880.0080.103
DRQualControl0.0590.0090.092
LiWongRank0.1290.0070.140
MannWhitney0.0990.0060.117
RankProduct0.6120.0270.675
SNRQualControl0.0620.0130.083
Ttest0.0650.0070.072
ZPRIMEQualControl0.0880.0160.114
ZScore0.0370.0060.043
ZScorePerScreen0.0330.0060.040
ZScorePlot0.2020.0240.254
ZScorePlotTwo0.0710.0090.082
channelPlot0.0820.0080.093
closestToZero0.0120.0060.018
compareHits0.1230.0150.139
compareReplicaPlates0.0450.0090.054
compareReplicateSD0.3230.0210.352
compareReplicateSDPerScreen0.5090.0310.556
compareReplicates0.3620.0340.435
controlDensity0.1190.0130.141
controlDensityPerPlate0.3660.0290.412
controlDensityPerScreen0.2040.0190.234
controlNorm0.0350.0080.044
createSubset0.0170.0040.021
discardLabtek0.0230.0050.028
discardWells0.0160.0050.020
divNorm0.0390.0070.046
divideChannels0.0210.0050.025
eraseDataSetColumn0.0340.0040.038
findReplicates0.0300.0080.041
furthestFromZero0.0190.0060.024
generateDatasetFile0.0830.0200.102
generateRepMatNoFilter0.0240.0050.030
generateReplicateMat0.0340.0050.038
gseaAnalysis 6.995 0.17160.570
hitselectionPval0.0730.0080.081
hitselectionZscore0.0770.0070.084
hitselectionZscorePval0.0730.0080.080
incorporatepValVec0.0650.0080.074
indexSubset0.0260.0040.030
joinDatasetFiles0.0570.0070.065
joinDatasets0.0240.0040.027
lowessNorm0.0490.0060.055
mainAnalysis58.437 4.54470.569
makeBoxplot4PlateType0.1250.0180.167
makeBoxplotControls0.0820.0120.097
makeBoxplotControlsPerPlate0.2350.0240.346
makeBoxplotControlsPerScreen0.1370.0150.160
makeBoxplotPerPlate0.1310.0160.150
makeBoxplotPerScreen0.0770.0110.092
multTestAdjust0.0180.0050.023
numCellQualControl0.0820.0130.096
orderGeneIDs0.1100.0090.119
percCellQualControl0.0760.0120.095
plotBar0.2320.0160.266
plotControlHisto0.1400.0110.157
plotControlHistoPerplate0.5460.0270.591
plotControlHistoPerscreen0.2690.0180.308
plotHisto0.0730.0130.090
plotHistoPerplate0.2090.0250.247
plotHistoPerscreen0.1320.0170.155
plotQQ0.0760.0130.096
plotQQperplate0.2160.0250.269
plotQQperscreen0.1160.0140.135
quantileNormalization0.0650.0090.073
replicatesCV0.1480.0190.175
replicatesSpearmancor0.0590.0100.073
rms0.0300.0080.039
rnaither16.692 0.73218.523
saveDataset0.0390.0090.049
saveOldIntensityColumns0.0200.0070.027
savepValVec0.0150.0060.022
spatialDistrib0.9450.0571.027
spatialDistribHits1.0290.0591.127
subtractBackground0.0230.0090.035
sumChannels0.0410.0080.049
summarizeReps0.1280.0060.134
summarizeRepsNoFiltering0.1520.0080.169
trim0.0220.0090.031
varAdjust0.0320.0100.042
vennDiag0.2010.0280.234
volcanoPlot0.1340.0210.160