RGalaxy 1.3.7 Bioconductor Package Maintainer
 | Snapshot Date: 2013-03-24 17:01:43 -0700 (Sun, 24 Mar 2013) |  | URL: https://hedgehog.fhcrc.org/bioconductor/trunk/madman/Rpacks/RGalaxy |  | Last Changed Rev: 74614 / Revision: 74774 |  | Last Changed Date: 2013-03-20 13:16:42 -0700 (Wed, 20 Mar 2013) |  
  | george2  | Linux (Ubuntu 12.04.1 LTS) / x86_64  |  OK  |  OK  |  | 
| moscato2  | Windows Server 2008 R2 Enterprise SP1 (64-bit) / x64  |  OK  |  OK  |  OK  | 
| petty  | Mac OS X Leopard (10.5.8) / i386  | [ ERROR ] |  skipped  |  skipped  | 
* checking for file 'RGalaxy/DESCRIPTION' ... OK
* preparing 'RGalaxy':
* checking DESCRIPTION meta-information ... OK
* installing the package to re-build vignettes
      -----------------------------------
* installing *source* package 'RGalaxy' ...
** R
** inst
** preparing package for lazy loading
** help
*** installing help indices
** building package indices
** installing vignettes
   'RGalaxy-vignette.Rmd' 
Error in vignetteEngine(vignetteInfo(srcfile)$engine) : 
  vignette engine 'knitr::knitr' not found
ERROR: installing vignettes failed
* removing '/private/tmp/Rtmp1qRpDw/Rinsta181225d120/RGalaxy'
      -----------------------------------
ERROR: package installation failed