OutlierD 1.23.0 Sukwoo Kim
 | Snapshot Date: 2013-03-24 17:01:43 -0700 (Sun, 24 Mar 2013) |  | URL: https://hedgehog.fhcrc.org/bioconductor/trunk/madman/Rpacks/OutlierD |  | Last Changed Rev: 70052 / Revision: 74774 |  | Last Changed Date: 2012-10-01 15:43:56 -0700 (Mon, 01 Oct 2012) |  
  | george2  | Linux (Ubuntu 12.04.1 LTS) / x86_64  |  OK  |  OK  |  | 
| moscato2  | Windows Server 2008 R2 Enterprise SP1 (64-bit) / x64  |  OK  |  OK  | [ OK ] | 
| petty  | Mac OS X Leopard (10.5.8) / i386  |  OK  |  OK  |  OK  | 
install for i386
* installing *source* package 'OutlierD' ...
** R
** data
** inst
** preparing package for lazy loading
** help
*** installing help indices
** building package indices
** installing vignettes
   'OutlierD.Rnw' 
** testing if installed package can be loaded
Warning: ignoring .First.lib() for package 'OutlierD'
install for x64
* installing *source* package 'OutlierD' ...
** testing if installed package can be loaded
Warning: ignoring .First.lib() for package 'OutlierD'
* MD5 sums
packaged installation of 'OutlierD' as OutlierD_1.23.0.zip
* DONE (OutlierD)