MotifDb 1.1.6 Paul Shannon
 | Snapshot Date: 2013-01-15 17:01:14 -0800 (Tue, 15 Jan 2013) |  | URL: https://hedgehog.fhcrc.org/bioconductor/trunk/madman/Rpacks/MotifDb |  | Last Changed Rev: 71976 / Revision: 72575 |  | Last Changed Date: 2012-12-16 17:19:39 -0800 (Sun, 16 Dec 2012) |  
  | george2  | Linux (Ubuntu 12.04.1 LTS) / x86_64  |  OK  |  OK  |  | 
| lamb2  | Linux (openSUSE 11.4) / x86_64  | [ OK ] |  OK  |  | 
| moscato2  | Windows Server 2008 R2 Enterprise SP1 (64-bit) / x64  |  OK  |  OK  |  OK  | 
| petty  | Mac OS X Leopard (10.5.8) / i386  |  OK  |  OK  |  OK  | 
* checking for file ‘MotifDb/DESCRIPTION’ ... OK
* preparing ‘MotifDb’:
* checking DESCRIPTION meta-information ... OK
* installing the package to re-build vignettes
* creating vignettes ... OK
* checking for LF line-endings in source and make files
* checking for empty or unneeded directories
* building ‘MotifDb_1.1.6.tar.gz’