MeasurementError.cor 1.31.0 Beiying Ding
 | Snapshot Date: 2013-01-15 17:01:14 -0800 (Tue, 15 Jan 2013) |  | URL: https://hedgehog.fhcrc.org/bioconductor/trunk/madman/Rpacks/MeasurementError.cor |  | Last Changed Rev: 70052 / Revision: 72575 |  | Last Changed Date: 2012-10-01 15:43:56 -0700 (Mon, 01 Oct 2012) |  
  | george2  | Linux (Ubuntu 12.04.1 LTS) / x86_64  |  OK  |  OK  |  | 
| lamb2  | Linux (openSUSE 11.4) / x86_64  | [ OK ] |  OK  |  | 
| moscato2  | Windows Server 2008 R2 Enterprise SP1 (64-bit) / x64  |  OK  |  OK  |  OK  | 
| petty  | Mac OS X Leopard (10.5.8) / i386  |  OK  |  OK  |  OK  | 
* checking for file ‘MeasurementError.cor/DESCRIPTION’ ... OK
* preparing ‘MeasurementError.cor’:
* checking DESCRIPTION meta-information ... OK
* installing the package to re-build vignettes
* creating vignettes ... OK
* excluding invalid files
Subdirectory 'R' contains invalid file names:
  ‘zzz’
Subdirectory 'man' contains invalid file names:
  ‘CalcInitials’ ‘TransformCon2Uncon’ ‘TransformUncon2Con’ ‘cor.me’
  ‘fcn’ ‘fcn.uncons’ ‘gradient’ ‘gradient.uncons’
* checking for LF line-endings in source and make files
* checking for empty or unneeded directories
* building ‘MeasurementError.cor_1.31.0.tar.gz’