KCsmart 2.17.1 Jorma de Ronde
 | Snapshot Date: 2013-03-24 17:01:43 -0700 (Sun, 24 Mar 2013) |  | URL: https://hedgehog.fhcrc.org/bioconductor/trunk/madman/Rpacks/KCsmart |  | Last Changed Rev: 72096 / Revision: 74774 |  | Last Changed Date: 2012-12-20 18:39:29 -0800 (Thu, 20 Dec 2012) |  
  | george2  | Linux (Ubuntu 12.04.1 LTS) / x86_64  |  OK  |  OK  |  | 
| moscato2  | Windows Server 2008 R2 Enterprise SP1 (64-bit) / x64  |  OK  |  OK  | [ OK ] | 
| petty  | Mac OS X Leopard (10.5.8) / i386  |  OK  |  OK  |  OK  | 
install for i386
* installing *source* package 'KCsmart' ...
** R
** data
** inst
** preparing package for lazy loading
Creating a generic function for 'write.table' from package 'utils' in package 'KCsmart'
** help
*** installing help indices
** building package indices
** installing vignettes
   'KCS.Rnw' 
** testing if installed package can be loaded
install for x64
* installing *source* package 'KCsmart' ...
** testing if installed package can be loaded
* MD5 sums
packaged installation of 'KCsmart' as KCsmart_2.17.1.zip
* DONE (KCsmart)