GenomicFeatures 1.11.6 Bioconductor Package Maintainer
 | Snapshot Date: 2013-01-15 17:01:14 -0800 (Tue, 15 Jan 2013) |  | URL: https://hedgehog.fhcrc.org/bioconductor/trunk/madman/Rpacks/GenomicFeatures |  | Last Changed Rev: 72346 / Revision: 72575 |  | Last Changed Date: 2013-01-07 16:24:20 -0800 (Mon, 07 Jan 2013) |  
  | george2  | Linux (Ubuntu 12.04.1 LTS) / x86_64  |  OK  |  OK  |  | 
| lamb2  | Linux (openSUSE 11.4) / x86_64  | [ OK ] |  OK  |  | 
| moscato2  | Windows Server 2008 R2 Enterprise SP1 (64-bit) / x64  |  OK  |  ERROR  |  OK  | 
| petty  | Mac OS X Leopard (10.5.8) / i386  |  OK  |  OK  |  OK  | 
* checking for file ‘GenomicFeatures/DESCRIPTION’ ... OK
* preparing ‘GenomicFeatures’:
* checking DESCRIPTION meta-information ... OK
* installing the package to re-build vignettes
* creating vignettes ... OK
* checking for LF line-endings in source and make files
* checking for empty or unneeded directories
WARNING: directory ‘GenomicFeatures/inst/txdb-template/inst/extdata’ is empty
* building ‘GenomicFeatures_1.11.6.tar.gz’