GeneSelectMMD 2.3.2 Weiliang Qiu
 | Snapshot Date: 2013-03-24 17:01:43 -0700 (Sun, 24 Mar 2013) |  | URL: https://hedgehog.fhcrc.org/bioconductor/trunk/madman/Rpacks/GeneSelectMMD |  | Last Changed Rev: 71219 / Revision: 74774 |  | Last Changed Date: 2012-11-14 13:15:22 -0800 (Wed, 14 Nov 2012) |  
  | george2  | Linux (Ubuntu 12.04.1 LTS) / x86_64  |  OK  |  OK  |  | 
| moscato2  | Windows Server 2008 R2 Enterprise SP1 (64-bit) / x64  |  OK  |  OK  | [ OK ] | 
| petty  | Mac OS X Leopard (10.5.8) / i386  |  OK  |  OK  |  OK  | 
install for i386
* installing *source* package 'GeneSelectMMD' ...
** libs
gfortran -m32     -O3  -mtune=core2 -c Qfunc.f -o Qfunc.o
gfortran -m32     -O3  -mtune=core2 -c blas.f -o blas.o
gcc -m32 -I"E:/biocbld/BBS-2˜1.12-/R/include" -DNDEBUG     -I"d:/RCompile/CRANpkg/extralibs64/local/include"     -O3 -Wall  -std=gnu99 -mtune=core2 -c isnan.c -o isnan.o
gfortran -m32     -O3  -mtune=core2 -c lbfgsb.f -o lbfgsb.o
gfortran -m32     -O3  -mtune=core2 -c lbfgsbDriver.f -o lbfgsbDriver.o
gfortran -m32     -O3  -mtune=core2 -c linpack.f -o linpack.o
gfortran -m32     -O3  -mtune=core2 -c llkhFun.f -o llkhFun.o
gfortran -m32     -O3  -mtune=core2 -c myTtest.f -o myTtest.o
gfortran -m32     -O3  -mtune=core2 -c paraEstLoop.f -o paraEstLoop.o
gcc -m32 -I"E:/biocbld/BBS-2˜1.12-/R/include" -DNDEBUG     -I"d:/RCompile/CRANpkg/extralibs64/local/include"     -O3 -Wall  -std=gnu99 -mtune=core2 -c pt.c -o pt.o
gfortran -m32     -O3  -mtune=core2 -c timer.f -o timer.o
gfortran -m32     -O3  -mtune=core2 -c wiFun.f -o wiFun.o
gcc -m32 -shared -s -static-libgcc -o GeneSelectMMD.dll tmp.def Qfunc.o blas.o isnan.o lbfgsb.o lbfgsbDriver.o linpack.o llkhFun.o myTtest.o paraEstLoop.o pt.o timer.o wiFun.o -Ld:/RCompile/CRANpkg/extralibs64/local/lib/i386 -Ld:/RCompile/CRANpkg/extralibs64/local/lib -lgfortran -LE:/biocbld/BBS-2˜1.12-/R/bin/i386 -lR
installing to E:/biocbld/bbs-2.12-bioc/meat/GeneSelectMMD.buildbin-libdir/GeneSelectMMD/libs/i386
** R
** inst
** preparing package for lazy loading
** help
*** installing help indices
** building package indices
** installing vignettes
   'gsMMD.Rnw' 
** testing if installed package can be loaded
install for x64
* installing *source* package 'GeneSelectMMD' ...
** libs
gfortran -m64     -O2  -mtune=core2 -c Qfunc.f -o Qfunc.o
gfortran -m64     -O2  -mtune=core2 -c blas.f -o blas.o
gcc -m64 -I"E:/biocbld/BBS-2˜1.12-/R/include" -DNDEBUG     -I"d:/RCompile/CRANpkg/extralibs64/local/include"     -O2 -Wall  -std=gnu99 -mtune=core2 -c isnan.c -o isnan.o
gfortran -m64     -O2  -mtune=core2 -c lbfgsb.f -o lbfgsb.o
gfortran -m64     -O2  -mtune=core2 -c lbfgsbDriver.f -o lbfgsbDriver.o
gfortran -m64     -O2  -mtune=core2 -c linpack.f -o linpack.o
gfortran -m64     -O2  -mtune=core2 -c llkhFun.f -o llkhFun.o
gfortran -m64     -O2  -mtune=core2 -c myTtest.f -o myTtest.o
gfortran -m64     -O2  -mtune=core2 -c paraEstLoop.f -o paraEstLoop.o
gcc -m64 -I"E:/biocbld/BBS-2˜1.12-/R/include" -DNDEBUG     -I"d:/RCompile/CRANpkg/extralibs64/local/include"     -O2 -Wall  -std=gnu99 -mtune=core2 -c pt.c -o pt.o
gfortran -m64     -O2  -mtune=core2 -c timer.f -o timer.o
gfortran -m64     -O2  -mtune=core2 -c wiFun.f -o wiFun.o
gcc -m64 -shared -s -static-libgcc -o GeneSelectMMD.dll tmp.def Qfunc.o blas.o isnan.o lbfgsb.o lbfgsbDriver.o linpack.o llkhFun.o myTtest.o paraEstLoop.o pt.o timer.o wiFun.o -Ld:/RCompile/CRANpkg/extralibs64/local/lib/x64 -Ld:/RCompile/CRANpkg/extralibs64/local/lib -lgfortran -LE:/biocbld/BBS-2˜1.12-/R/bin/x64 -lR
installing to E:/biocbld/bbs-2.12-bioc/meat/GeneSelectMMD.buildbin-libdir/GeneSelectMMD/libs/x64
** testing if installed package can be loaded
* MD5 sums
packaged installation of 'GeneSelectMMD' as GeneSelectMMD_2.3.2.zip
* DONE (GeneSelectMMD)