ENVISIONQuery 1.7.0 Alex Lisovich , Roger Day
 | Snapshot Date: 2013-03-24 17:01:43 -0700 (Sun, 24 Mar 2013) |  | URL: https://hedgehog.fhcrc.org/bioconductor/trunk/madman/Rpacks/ENVISIONQuery |  | Last Changed Rev: 70052 / Revision: 74774 |  | Last Changed Date: 2012-10-01 15:43:56 -0700 (Mon, 01 Oct 2012) |  
  | george2  | Linux (Ubuntu 12.04.1 LTS) / x86_64  |  OK  |  OK  |  | 
| moscato2  | Windows Server 2008 R2 Enterprise SP1 (64-bit) / x64  |  OK  |  OK  |  OK  | 
| petty  | Mac OS X Leopard (10.5.8) / i386  |  OK  |  OK  | [ OK ] | 
* installing to library '/Library/Frameworks/R.framework/Versions/3.0/Resources/library'
* installing *source* package 'ENVISIONQuery' ...
** R
** inst
** preparing package for lazy loading
** help
*** installing help indices
** building package indices
** installing vignettes
   'ENVISIONQuery.Rnw' using 'latin-9' 
packaged installation of 'ENVISIONQuery' as 'ENVISIONQuery_1.7.0.tgz'
* DONE (ENVISIONQuery)