DEGraph 1.11.0 Laurent Jacob
 | Snapshot Date: 2013-03-24 17:01:43 -0700 (Sun, 24 Mar 2013) |  | URL: https://hedgehog.fhcrc.org/bioconductor/trunk/madman/Rpacks/DEGraph |  | Last Changed Rev: 70052 / Revision: 74774 |  | Last Changed Date: 2012-10-01 15:43:56 -0700 (Mon, 01 Oct 2012) |  
  | george2  | Linux (Ubuntu 12.04.1 LTS) / x86_64  |  OK  |  OK  |  | 
| moscato2  | Windows Server 2008 R2 Enterprise SP1 (64-bit) / x64  |  OK  |  OK  |  OK  | 
| petty  | Mac OS X Leopard (10.5.8) / i386  |  OK  |  OK  | [ OK ] | 
>>>>>>> 
>>>>>>> INSTALLATION WITH 'R CMD INSTALL --preclean --no-multiarch --library=DEGraph.buildbin-libdir DEGraph_1.11.0.tar.gz'
>>>>>>> 
* installing *source* package 'DEGraph' ...
** R
** data
** demo
** inst
** preparing package for lazy loading
Warning in .simpleDuplicateClass(def, prev) :
  the specification for S3 class "AsIs" in package 'XMLRPC' seems equivalent to one from package 'BiocGenerics' and is not turning on duplicate class definitions for this class
** help
*** installing help indices
** building package indices
** installing vignettes
   'DEGraph.Rnw' 
** testing if installed package can be loaded
Warning in .simpleDuplicateClass(def, prev) :
  the specification for S3 class "AsIs" in package 'XMLRPC' seems equivalent to one from package 'BiocGenerics' and is not turning on duplicate class definitions for this class
* DONE (DEGraph)