ConsensusClusterPlus 1.11.2 Matt Wilkerson
 | Snapshot Date: 2013-03-24 17:01:43 -0700 (Sun, 24 Mar 2013) |  | URL: https://hedgehog.fhcrc.org/bioconductor/trunk/madman/Rpacks/ConsensusClusterPlus |  | Last Changed Rev: 74690 / Revision: 74774 |  | Last Changed Date: 2013-03-22 11:04:03 -0700 (Fri, 22 Mar 2013) |  
  | george2  | Linux (Ubuntu 12.04.1 LTS) / x86_64  |  OK  |  OK  |  | 
| moscato2  | Windows Server 2008 R2 Enterprise SP1 (64-bit) / x64  |  OK  |  OK  | [ OK ] | 
| petty  | Mac OS X Leopard (10.5.8) / i386  |  OK  |  OK  |  OK  | 
install for i386
* installing *source* package 'ConsensusClusterPlus' ...
** R
** inst
** preparing package for lazy loading
** help
*** installing help indices
** building package indices
** installing vignettes
   'ConsensusClusterPlus.Rnw' 
** testing if installed package can be loaded
install for x64
* installing *source* package 'ConsensusClusterPlus' ...
** testing if installed package can be loaded
* MD5 sums
packaged installation of 'ConsensusClusterPlus' as ConsensusClusterPlus_1.11.2.zip
* DONE (ConsensusClusterPlus)