CoGAPS 1.9.1 Elana J. Fertig
 | Snapshot Date: 2013-01-15 17:01:14 -0800 (Tue, 15 Jan 2013) |  | URL: https://hedgehog.fhcrc.org/bioconductor/trunk/madman/Rpacks/CoGAPS |  | Last Changed Rev: 72235 / Revision: 72575 |  | Last Changed Date: 2013-01-02 10:52:57 -0800 (Wed, 02 Jan 2013) |  
  | george2  | Linux (Ubuntu 12.04.1 LTS) / x86_64  |  OK  |  OK  |  | 
| lamb2  | Linux (openSUSE 11.4) / x86_64  | [ OK ] |  OK  |  | 
| moscato2  | Windows Server 2008 R2 Enterprise SP1 (64-bit) / x64  | N O T   S U P P O R T E D | 
| petty  | Mac OS X Leopard (10.5.8) / i386  | N O T   S U P P O R T E D | 
* checking for file ‘CoGAPS/DESCRIPTION’ ... OK
* preparing ‘CoGAPS’:
* checking DESCRIPTION meta-information ... OK
* cleaning src
* running ‘cleanup’
* checking whether ‘INDEX’ is up-to-date ... NO
* use ‘--force’ to remove the existing ‘INDEX’
* installing the package to re-build vignettes
* creating vignettes ... OK
* cleaning src
* running ‘cleanup’
* checking for LF line-endings in source and make files
* checking for empty or unneeded directories
* looking to see if a ‘data/datalist’ file should be added
* building ‘CoGAPS_1.9.1.tar.gz’