BUS 1.15.0 Yuanhua Liu
 | Snapshot Date: 2013-03-24 17:01:43 -0700 (Sun, 24 Mar 2013) |  | URL: https://hedgehog.fhcrc.org/bioconductor/trunk/madman/Rpacks/BUS |  | Last Changed Rev: 70052 / Revision: 74774 |  | Last Changed Date: 2012-10-01 15:43:56 -0700 (Mon, 01 Oct 2012) |  
  | george2  | Linux (Ubuntu 12.04.1 LTS) / x86_64  |  OK  |  OK  |  | 
| moscato2  | Windows Server 2008 R2 Enterprise SP1 (64-bit) / x64  |  OK  |  OK  | [ OK ] | 
| petty  | Mac OS X Leopard (10.5.8) / i386  |  OK  |  OK  |  OK  | 
install for i386
* installing *source* package 'BUS' ...
** libs
g++ -m32 -I"E:/biocbld/BBS-2˜1.12-/R/include" -DNDEBUG     -I"d:/RCompile/CRANpkg/extralibs64/local/include"     -O2 -Wall  -mtune=core2 -c BUS.cpp -o BUS.o
g++ -m32 -shared -s -static-libgcc -o BUS.dll tmp.def BUS.o -Ld:/RCompile/CRANpkg/extralibs64/local/lib/i386 -Ld:/RCompile/CRANpkg/extralibs64/local/lib -LE:/biocbld/BBS-2˜1.12-/R/bin/i386 -lR
installing to E:/biocbld/bbs-2.12-bioc/meat/BUS.buildbin-libdir/BUS/libs/i386
** R
** data
** inst
** preparing package for lazy loading
** help
*** installing help indices
** building package indices
** installing vignettes
   'bus.rnw' 
** testing if installed package can be loaded
install for x64
* installing *source* package 'BUS' ...
** libs
g++ -m64 -I"E:/biocbld/BBS-2˜1.12-/R/include" -DNDEBUG     -I"d:/RCompile/CRANpkg/extralibs64/local/include"     -O2 -Wall  -mtune=core2 -c BUS.cpp -o BUS.o
g++ -m64 -shared -s -static-libgcc -o BUS.dll tmp.def BUS.o -Ld:/RCompile/CRANpkg/extralibs64/local/lib/x64 -Ld:/RCompile/CRANpkg/extralibs64/local/lib -LE:/biocbld/BBS-2˜1.12-/R/bin/x64 -lR
installing to E:/biocbld/bbs-2.12-bioc/meat/BUS.buildbin-libdir/BUS/libs/x64
** testing if installed package can be loaded
* MD5 sums
packaged installation of 'BUS' as BUS_1.15.0.zip
* DONE (BUS)