ArrayExpressHTS 1.9.2 Angela Goncalves , Andrew Tikhonov
 | Snapshot Date: 2013-03-24 17:01:43 -0700 (Sun, 24 Mar 2013) |  | URL: https://hedgehog.fhcrc.org/bioconductor/trunk/madman/Rpacks/ArrayExpressHTS |  | Last Changed Rev: 70419 / Revision: 74774 |  | Last Changed Date: 2012-10-11 09:58:19 -0700 (Thu, 11 Oct 2012) |  
  | george2  | Linux (Ubuntu 12.04.1 LTS) / x86_64  |  OK  |  OK  |  | 
| moscato2  | Windows Server 2008 R2 Enterprise SP1 (64-bit) / x64  | N O T   S U P P O R T E D | 
| petty  | Mac OS X Leopard (10.5.8) / i386  | [ OK ] |  WARNINGS  |  OK  | 
* checking for file 'ArrayExpressHTS/DESCRIPTION' ... OK
* preparing 'ArrayExpressHTS':
* checking DESCRIPTION meta-information ... OK
* cleaning src
* installing the package to re-build vignettes
* creating vignettes ... OK
* cleaning src
* checking for LF line-endings in source and make files
* checking for empty or unneeded directories
* building 'ArrayExpressHTS_1.9.2.tar.gz'