AnnotationDbi 1.21.16 Bioconductor Package Maintainer
 | Snapshot Date: 2013-03-24 17:01:43 -0700 (Sun, 24 Mar 2013) |  | URL: https://hedgehog.fhcrc.org/bioconductor/trunk/madman/Rpacks/AnnotationDbi |  | Last Changed Rev: 74415 / Revision: 74774 |  | Last Changed Date: 2013-03-15 14:11:12 -0700 (Fri, 15 Mar 2013) |  
  | george2  | Linux (Ubuntu 12.04.1 LTS) / x86_64  |  OK  |  OK  |  | 
| moscato2  | Windows Server 2008 R2 Enterprise SP1 (64-bit) / x64  |  OK  |  OK  | [ OK ] | 
| petty  | Mac OS X Leopard (10.5.8) / i386  |  OK  |  OK  |  OK  | 
install for i386
* installing *source* package 'AnnotationDbi' ...
** R
** inst
** preparing package for lazy loading
Creating a new generic function for 'packageName' in package 'AnnotationDbi'
Creating a generic function for 'toString' from package 'base' in package 'AnnotationDbi'
Creating a generic function for 'rev' from package 'base' in package 'AnnotationDbi'
Creating a generic function for 'subset' from package 'base' in package 'AnnotationDbi'
Creating a generic function for 'head' from package 'utils' in package 'AnnotationDbi'
Creating a generic function for 'tail' from package 'utils' in package 'AnnotationDbi'
Creating a generic function for 'as.list' from package 'base' in package 'AnnotationDbi'
Creating a generic function for 'ls' from package 'base' in package 'AnnotationDbi'
Creating a generic function for 'eapply' from package 'base' in package 'AnnotationDbi'
Creating a generic function for 'exists' from package 'base' in package 'AnnotationDbi'
Creating a generic function for 'sample' from package 'base' in package 'AnnotationDbi'
** help
*** installing help indices
** building package indices
** installing vignettes
   'AnnotationDbi.Rnw' 
   'IntroToAnnotationPackages.Rnw' 
** testing if installed package can be loaded
install for x64
* installing *source* package 'AnnotationDbi' ...
** testing if installed package can be loaded
* MD5 sums
packaged installation of 'AnnotationDbi' as AnnotationDbi_1.21.16.zip
* DONE (AnnotationDbi)