| Back to the "Multiple platform build/check report" | A B [C] D E F G H I J K L M N O P Q R S T U V W X Y Z |
| Package 142/609 | Hostname | OS / Arch | BUILD | CHECK | BUILD BIN | ||||
| cosmoGUI 1.24.0 Oliver Bembom
| lamb1 | Linux (openSUSE 12.1) / x86_64 | OK | OK | |||||
| moscato1 | Windows Server 2008 R2 Enterprise SP1 (64-bit) / x64 | [ OK ] | OK | OK | |||||
| perceval | Mac OS X Leopard (10.5.8) / i386 | OK | OK | OK |
| Package: cosmoGUI |
| Version: 1.24.0 |
| Command: chmod a+r cosmoGUI -R && D:\biocbld\bbs-2.11-bioc\R\bin\R.exe CMD build --keep-empty-dirs --no-resave-data cosmoGUI |
| StartedAt: 2013-03-24 22:09:38 -0700 (Sun, 24 Mar 2013) |
| EndedAt: 2013-03-24 22:09:44 -0700 (Sun, 24 Mar 2013) |
| EllapsedTime: 5.4 seconds |
| RetCode: 0 |
| Status: OK |
| PackageFile: cosmoGUI_1.24.0.tar.gz |
| PackageFileSize: 11.21 KiB |
* checking for file 'cosmoGUI/DESCRIPTION' ... OK * preparing 'cosmoGUI': * checking DESCRIPTION meta-information ... OK * checking for LF line-endings in source and make files * checking for empty or unneeded directories * building 'cosmoGUI_1.24.0.tar.gz'