edd 1.33.0 Vince Carey
| Snapshot Date: 2012-02-28 17:01:26 -0800 (Tue, 28 Feb 2012) | | URL: https://hedgehog.fhcrc.org/bioconductor/trunk/madman/Rpacks/edd | | Last Changed Rev: 59924 / Revision: 63265 | | Last Changed Date: 2011-10-31 16:12:28 -0700 (Mon, 31 Oct 2011) |
| lamb2 | Linux (openSUSE 11.4) / x86_64 | OK | OK | |
| moscato2 | Windows Server 2008 R2 Enterprise SP1 (64-bit) / x64 | OK | OK | OK |
| petty | Mac OS X Snow Leopard (10.6.7) / i386 | OK | OK | [ OK ] |
>>>>>>>
>>>>>>> INSTALLATION WITH 'R CMD INSTALL --preclean --no-multiarch --library=edd.buildbin-libdir edd_1.33.0.tar.gz'
>>>>>>>
* installing *source* package 'edd' ...
** R
** inst
** preparing package for lazy loading
** help
*** installing help indices
** building package indices
** installing vignettes
'HOWTO-edd.Rnw'
'eddDetails.Rnw'
** testing if installed package can be loaded
* DONE (edd)