Back to the "Multiple platform build/check report"
| Package 220/234 | Hostname | OS | Arch | BUILD | CHECK | BUILD BIN |
| stepNorm 1.10.0 Yuanyuan Xiao Last Changed Date: 2007-10-02 17:41:09 -0700 Last Changed Rev: 27709 | lamb1 | Linux (SUSE 10.1) | x86_64 | OK | OK | |
| wellington | Linux (SUSE 9.2) | i686 | OK | OK | ||
| liverpool | Windows Server 2003 R2 (32-bit) | x64 | OK | OK | OK | |
| pitt | Mac OS X (10.4.10) | i386 | OK | OK | [ OK ] |
| Package: stepNorm |
| Version: 1.10.0 |
| Command: /Users/biocbuild/BBS/utils/build-universal.sh stepNorm_1.10.0.tar.gz /Library/Frameworks/R.framework/Resources/bin/R stepNorm.buildbin-libdir |
| RetCode: 0 |
| Time: 4.9 seconds |
| Status: OK |
| PackageFile: stepNorm_1.10.0.tgz |
INSTALLATION WITH 'R CMD INSTALL stepNorm_1.10.0.tar.gz'
* Installing to library 'stepNorm.buildbin-libdir'
* Installing *source* package 'stepNorm' ...
** R
** inst
** help
Note: unmatched right brace in 'marrayFitClass' on or after line 63
Note: unmatched right brace in 'withinNorm' on or after line 12
>>> Building/Updating help pages for package 'stepNorm'
Formats: text html latex example
calcAIC text html latex example
calcBIC text html latex example
fit2DWithin text html latex example
fitWithin text html latex example
maCompPlate2 text html latex example
makeStepList text html latex example
marrayFitClass text html latex example
seqWithinNorm text html latex example
stepNorm-internal text html latex
stepWithinNorm text html latex example
withinNorm text html latex example
** building package indices ...
* DONE (stepNorm)