Back to the "Multiple platform build/check report"
| Package 147/234 | Hostname | OS | Arch | BUILD | CHECK | BUILD BIN |
| oligoClasses 1.0.1 Benilton Carvalho Last Changed Date: 2007-10-07 09:22:26 -0700 Last Changed Rev: 27831 | lamb1 | Linux (SUSE 10.1) | x86_64 | OK | OK | |
| wellington | Linux (SUSE 9.2) | i686 | OK | OK | ||
| liverpool | Windows Server 2003 R2 (32-bit) | x64 | OK | WARNINGS | OK | |
| pitt | Mac OS X (10.4.10) | i386 | OK | [ OK ] | OK |
| Package: oligoClasses |
| Version: 1.0.1 |
| Command: /Library/Frameworks/R.framework/Resources/bin/R CMD check oligoClasses_1.0.1.tar.gz |
| RetCode: 0 |
| Time: 37.0 seconds |
| Status: OK |
| CheckDir: oligoClasses.Rcheck |
| Warnings: 0 |
* checking for working latex ... OK * using log directory '/Users/biocbuild/bbs-2.1-bioc/meat/oligoClasses.Rcheck' * using R version 2.6.0 (2007-10-03) * checking for file 'oligoClasses/DESCRIPTION' ... OK * this is package 'oligoClasses' version '1.0.1' * checking package name space information ... OK * checking package dependencies ... OK * checking if this is a source package ... OK * checking whether package 'oligoClasses' can be installed ... OK * checking package directory ... OK * checking for portable file names ... OK * checking for sufficient/correct file permissions ... OK * checking DESCRIPTION meta-information ... OK * checking top-level files ... OK * checking index information ... OK * checking package subdirectories ... OK * checking R files for non-ASCII characters ... OK * checking R files for syntax errors ... OK * checking whether the package can be loaded ... OK * checking whether the package can be loaded with stated dependencies ... OK * checking whether the name space can be loaded with stated dependencies ... OK * checking for unstated dependencies in R code ... OK * checking S3 generic/method consistency ... OK * checking replacement functions ... OK * checking foreign function calls ... OK * checking R code for possible problems ... OK * checking Rd files ... OK * checking Rd cross-references ... OK * checking for missing documentation entries ... OK * checking for code/documentation mismatches ... OK * checking Rd \usage sections ... OK * creating oligoClasses-Ex.R ... OK * checking examples ... OK * creating oligoClasses-manual.tex ... OK * checking oligoClasses-manual.tex ... OK
oligoClasses.Rcheck/00install.out:
* Installing *source* package 'oligoClasses' ...
** R
** preparing package for lazy loading
Loading required package: Biobase
Loading required package: tools
Welcome to Bioconductor
Vignettes contain introductory material. To view, type
'openVignette()'. To cite Bioconductor, see
'citation("Biobase")' and for packages 'citation(pkgname)'.
** help
>>> Building/Updating help pages for package 'oligoClasses'
Formats: text html latex example
DBPDInfo-class text html latex example
FeatureSet-class text html latex
FeatureSetExtensions-class text html latex example
PDInfo-class text html latex example
QuantificationSet-class text html latex example
SnpCallSet-methods text html latex example
SnpCallSetPlus-class text html latex example
SnpCnvFeatureSet-class text html latex example
SnpCnvQSet-class text html latex example
SnpCopyNumberSet-methods text html latex example
SnpLevelSet-class text html latex
SnpQSet-class text html latex example
SnpSetExtensions-class text html latex example
oligoSnpSet-methods text html latex
platformDesign-class text html latex example
** building package indices ...
* DONE (oligoClasses)