Back to the "Multiple platform build/check report"
| Package 94/234 | Hostname | OS | Arch | BUILD | CHECK | BUILD BIN |
| gpls 1.10.0 Biocore Team c/o BioC user list Last Changed Date: 2007-10-02 17:41:09 -0700 Last Changed Rev: 27709 | lamb1 | Linux (SUSE 10.1) | x86_64 | OK | OK | |
| wellington | Linux (SUSE 9.2) | i686 | OK | OK | ||
| liverpool | Windows Server 2003 R2 (32-bit) | x64 | OK | OK | [ OK ] | |
| pitt | Mac OS X (10.4.10) | i386 | OK | OK | OK |
| Package: gpls |
| Version: 1.10.0 |
| Command: E:\biocbld\bbs-2.1-bioc\R\bin\R.exe CMD INSTALL --build --library=gpls.buildbin-libdir gpls_1.10.0.tar.gz |
| RetCode: 0 |
| Time: 15.1 seconds |
| Status: OK |
| PackageFile: gpls_1.10.0.zip |
installing R.css in E:/biocbld/bbs-2.1-bioc/meat/gpls.buildbin-libdir
Using auto-selected zip options ''
---------- Making package gpls ------------
adding build stamp to DESCRIPTION
installing NAMESPACE file and metadata
installing R files
installing inst files
installing man source files
installing indices
installing help
>>> Building/Updating help pages for package 'gpls'
Formats: text html latex example chm
glpls1a text html latex example chm
glpls1a.cv.error text html latex example chm
glpls1a.logit.all text html latex example chm
glpls1a.mlogit text html latex example chm
glpls1a.mlogit.cv.error text html latex example chm
glpls1a.train.test.error text html latex example chm
gpls text html latex example chm
predict.gpls text html latex example chm
Microsoft HTML Help Compiler 4.74.8702
Compiling e:\biocbld\bbs-2.1-bioc\meat\R.INSTALL.4484\gpls\chm\gpls.chm
Compile time: 0 minutes, 0 seconds
9 Topics
51 Local links
0 Internet links
1 Graphic
Created e:\biocbld\bbs-2.1-bioc\meat\R.INSTALL.4484\gpls\chm\gpls.chm, 25,555 bytes
Compression decreased file by 13,062 bytes.
adding MD5 sums
packaged installation of package 'gpls' as gpls_1.10.0.zip
* DONE (gpls)