Back to the "Multiple platform build/check report"
| Package 81/234 | Hostname | OS | Arch | BUILD | CHECK | BUILD BIN |
| geneRecommender 1.10.0 Greg Hather Last Changed Date: 2007-10-02 17:41:09 -0700 Last Changed Rev: 27709 | lamb1 | Linux (SUSE 10.1) | x86_64 | OK | OK | |
| wellington | Linux (SUSE 9.2) | i686 | OK | OK | ||
| liverpool | Windows Server 2003 R2 (32-bit) | x64 | [ OK ] | OK | OK | |
| pitt | Mac OS X (10.4.10) | i386 | OK | OK | OK |
| Package: geneRecommender |
| Version: 1.10.0 |
| Command: E:\biocbld\bbs-2.1-bioc\R\bin\R.exe CMD build geneRecommender |
| RetCode: 0 |
| Time: 19.3 seconds |
| Status: OK |
| PackageFile: geneRecommender_1.10.0.tar.gz |
* checking for file 'geneRecommender/DESCRIPTION' ... OK
* preparing 'geneRecommender':
* checking DESCRIPTION meta-information ... OK
* installing the package to re-build vignettes
installing R.css in E:/biocbld/bbs-2.1-bioc/tmpdir/Rinst577665097
---------- Making package geneRecommender ------------
adding build stamp to DESCRIPTION
installing R files
installing inst files
installing man source files
installing indices
installing help
>>> Building/Updating help pages for package 'geneRecommender'
Formats: text html latex example chm
gr.cv text html latex example chm
gr.main text html latex example chm
gr.normalize text html latex example chm
Microsoft HTML Help Compiler 4.74.8702
Compiling e:\biocbld\bbs-2.1-bioc\meat\geneRecommender\chm\geneRecommender.chm
Compile time: 0 minutes, 0 seconds
4 Topics
6 Local links
0 Internet links
1 Graphic
Created e:\biocbld\bbs-2.1-bioc\meat\geneRecommender\chm\geneRecommender.chm, 22,088 bytes
Compression increased file by 3,709 bytes.
adding MD5 sums
* DONE (geneRecommender)
* creating vignettes ... OK
* removing junk files
* checking for LF line-endings in source and make files
* checking for empty or unneeded directories
* building 'geneRecommender_1.10.0.tar.gz'