Back to the "Multiple platform build/check report"
| Package 74/234 | Hostname | OS | Arch | BUILD | CHECK | BUILD BIN |
| gaggle 1.6.0 Paul Shannon Last Changed Date: 2007-10-02 17:41:09 -0700 Last Changed Rev: 27709 | lamb1 | Linux (SUSE 10.1) | x86_64 | OK | OK | |
| wellington | Linux (SUSE 9.2) | i686 | OK | OK | ||
| liverpool | Windows Server 2003 R2 (32-bit) | x64 | OK | OK | OK | |
| pitt | Mac OS X (10.4.10) | i386 | OK | OK | [ OK ] |
| Package: gaggle |
| Version: 1.6.0 |
| Command: /Users/biocbuild/BBS/utils/build-universal.sh gaggle_1.6.0.tar.gz /Library/Frameworks/R.framework/Resources/bin/R gaggle.buildbin-libdir |
| RetCode: 0 |
| Time: 2.8 seconds |
| Status: OK |
| PackageFile: gaggle_1.6.0.tgz |
INSTALLATION WITH 'R CMD INSTALL gaggle_1.6.0.tar.gz'
* Installing to library 'gaggle.buildbin-libdir'
* Installing *source* package 'gaggle' ...
** R
** inst
** help
>>> Building/Updating help pages for package 'gaggle'
Formats: text html latex example
broadcast text html latex
gaggleInit text html latex
geese text html latex
getCluster text html latex
getHashMap text html latex
getMatrix text html latex
getNameList text html latex
getNetwork text html latex
getSpecies text html latex
getTargetGoose text html latex
hideGoose text html latex
setSpecies text html latex
setTargetGoose text html latex
showGoose text html latex
testGagglePackage text html latex
** building package indices ...
* DONE (gaggle)