Back to the "Multiple platform build/check report"
| Package 52/234 | Hostname | OS | Arch | BUILD | CHECK | BUILD BIN |
| convert 1.14.0 Yee Hwa (Jean) Yang Last Changed Date: 2007-10-02 17:41:09 -0700 Last Changed Rev: 27709 | lamb1 | Linux (SUSE 10.1) | x86_64 | OK | OK | |
| wellington | Linux (SUSE 9.2) | i686 | OK | OK | ||
| liverpool | Windows Server 2003 R2 (32-bit) | x64 | OK | OK | OK | |
| pitt | Mac OS X (10.4.10) | i386 | OK | OK | [ OK ] |
| Package: convert |
| Version: 1.14.0 |
| Command: /Users/biocbuild/BBS/utils/build-universal.sh convert_1.14.0.tar.gz /Library/Frameworks/R.framework/Resources/bin/R convert.buildbin-libdir |
| RetCode: 0 |
| Time: 3.1 seconds |
| Status: OK |
| PackageFile: convert_1.14.0.tgz |
INSTALLATION WITH 'R CMD INSTALL convert_1.14.0.tar.gz'
* Installing to library 'convert.buildbin-libdir'
* Installing *source* package 'convert' ...
** R
** inst
** help
>>> Building/Updating help pages for package 'convert'
Formats: text html latex example
coerce text html latex example
** building package indices ...
* DONE (convert)