Back to the "Multiple platform build/check report"
| Package 49/234 | Hostname | OS | Arch | BUILD | CHECK | BUILD BIN |
| clusterStab 1.10.0 James W. MacDonald Last Changed Date: 2007-10-02 17:41:09 -0700 Last Changed Rev: 27709 | lamb1 | Linux (SUSE 10.1) | x86_64 | OK | OK | |
| wellington | Linux (SUSE 9.2) | i686 | OK | OK | ||
| liverpool | Windows Server 2003 R2 (32-bit) | x64 | OK | OK | OK | |
| pitt | Mac OS X (10.4.10) | i386 | OK | OK | [ OK ] |
| Package: clusterStab |
| Version: 1.10.0 |
| Command: /Users/biocbuild/BBS/utils/build-universal.sh clusterStab_1.10.0.tar.gz /Library/Frameworks/R.framework/Resources/bin/R clusterStab.buildbin-libdir |
| RetCode: 0 |
| Time: 5.9 seconds |
| Status: OK |
| PackageFile: clusterStab_1.10.0.tgz |
INSTALLATION WITH 'R CMD INSTALL clusterStab_1.10.0.tar.gz'
* Installing to library 'clusterStab.buildbin-libdir'
* Installing *source* package 'clusterStab' ...
** R
** inst
** preparing package for lazy loading
Loading required package: Biobase
Loading required package: tools
Welcome to Bioconductor
Vignettes contain introductory material. To view, type
'openVignette()'. To cite Bioconductor, see
'citation("Biobase")' and for packages 'citation(pkgname)'.
** help
>>> Building/Updating help pages for package 'clusterStab'
Formats: text html latex example
benhur-class text html latex
benhur text html latex example
clusterComp-class text html latex
clusterComp text html latex example
** building package indices ...
* DONE (clusterStab)