Back to the "Multiple platform build/check report"
| Package 32/234 | Hostname | OS | Arch | BUILD | CHECK | BUILD BIN |
| biocGraph 1.0.0 Li Long Last Changed Date: 2007-10-05 18:29:06 -0700 Last Changed Rev: 27811 | lamb1 | Linux (SUSE 10.1) | x86_64 | OK | OK | |
| wellington | Linux (SUSE 9.2) | i686 | OK | OK | ||
| liverpool | Windows Server 2003 R2 (32-bit) | x64 | OK | OK | OK | |
| pitt | Mac OS X (10.4.10) | i386 | OK | OK | [ OK ] |
| Package: biocGraph |
| Version: 1.0.0 |
| Command: /Users/biocbuild/BBS/utils/build-universal.sh biocGraph_1.0.0.tar.gz /Library/Frameworks/R.framework/Resources/bin/R biocGraph.buildbin-libdir |
| RetCode: 0 |
| Time: 7.2 seconds |
| Status: OK |
| PackageFile: biocGraph_1.0.0.tgz |
INSTALLATION WITH 'R CMD INSTALL biocGraph_1.0.0.tar.gz'
* Installing to library 'biocGraph.buildbin-libdir'
* Installing *source* package 'biocGraph' ...
** R
** inst
** preparing package for lazy loading
Loading required package: graph
Loading required package: geneplotter
Loading required package: annotate
Loading required package: Biobase
Loading required package: tools
Welcome to Bioconductor
Vignettes contain introductory material. To view, type
'openVignette()'. To cite Bioconductor, see
'citation("Biobase")' and for packages 'citation(pkgname)'.
Loading required package: AnnotationDbi
Loading required package: DBI
Loading required package: RSQLite
Loading required package: xtable
Loading required package: lattice
KernSmooth 2.22 installed
Copyright M. P. Wand 1997
Loading required package: Rgraphviz
Attaching package: 'Rgraphviz'
The following object(s) are masked from package:annotate :
toFile
Loading required package: fibroEset
Loading required package: hgu95av2
** help
>>> Building/Updating help pages for package 'biocGraph'
Formats: text html latex example
imageMap text html latex example
** building package indices ...
* DONE (biocGraph)