Back to the "Multiple platform build/check report"
| Package 134/234 | Hostname | OS | Arch | BUILD | CHECK | BUILD BIN |
| MeasurementError.cor 1.10.0 Beiying Ding Last Changed Date: 2007-10-02 17:41:09 -0700 Last Changed Rev: 27709 | lamb1 | Linux (SUSE 10.1) | x86_64 | OK | OK | |
| wellington | Linux (SUSE 9.2) | i686 | OK | OK | ||
| liverpool | Windows Server 2003 R2 (32-bit) | x64 | OK | OK | OK | |
| pitt | Mac OS X (10.4.10) | i386 | OK | OK | [ OK ] |
| Package: MeasurementError.cor |
| Version: 1.10.0 |
| Command: /Users/biocbuild/BBS/utils/build-universal.sh MeasurementError.cor_1.10.0.tar.gz /Library/Frameworks/R.framework/Resources/bin/R MeasurementError.cor.buildbin-libdir |
| RetCode: 0 |
| Time: 4.5 seconds |
| Status: OK |
| PackageFile: MeasurementError.cor_1.10.0.tgz |
INSTALLATION WITH 'R CMD INSTALL MeasurementError.cor_1.10.0.tar.gz'
* Installing to library 'MeasurementError.cor.buildbin-libdir'
* Installing *source* package 'MeasurementError.cor' ...
** R
** inst
** help
>>> Building/Updating help pages for package 'MeasurementError.cor'
Formats: text html latex example
cor.me.matrix text html latex example
cor.me.vector text html latex example
** building package indices ...
* DONE (MeasurementError.cor)