Back to the "Multiple platform build/check report"
| Package 88/234 | Hostname | OS | Arch | BUILD | CHECK | BUILD BIN |
| GGtools 1.6.0 Vince Carey Last Changed Date: 2007-10-02 17:41:09 -0700 Last Changed Rev: 27709 | lamb1 | Linux (SUSE 10.1) | x86_64 | OK | OK | |
| wellington | Linux (SUSE 9.2) | i686 | OK | OK | ||
| liverpool | Windows Server 2003 R2 (32-bit) | x64 | OK | [ TIMEOUT ] | OK | |
| pitt | Mac OS X (10.4.10) | i386 | OK | OK | OK |
| Package: GGtools |
| Version: 1.6.0 |
| Command: E:\biocbld\bbs-2.1-bioc\R\bin\R.exe CMD check GGtools_1.6.0.tar.gz |
| RetCode: None |
| Time: 2400.8 seconds |
| Status: TIMEOUT |
| CheckDir: GGtools.Rcheck |
| Warnings: NA |
* checking for working latex ... OK * using log directory 'E:/biocbld/bbs-2.1-bioc/meat/GGtools.Rcheck' * using R version 2.6.0 (2007-10-03) * checking for file 'GGtools/DESCRIPTION' ... OK * this is package 'GGtools' version '1.6.0' * checking package name space information ... OK * checking package dependencies ... OK * checking if this is a source package ... OK * checking whether package 'GGtools' can be installed ... OK * checking package directory ... OK * checking for portable file names ... OK * checking DESCRIPTION meta-information ... OK * checking top-level files ... OK * checking index information ... OK * checking package subdirectories ... OK * checking R files for non-ASCII characters ... OK * checking R files for syntax errors ... OK * checking whether the package can be loaded ... OK * checking whether the package can be loaded with stated dependencies ... OK * checking whether the name space can be loaded with stated dependencies ... OK * checking for unstated dependencies in R code ... OK * checking S3 generic/method consistency ... OK * checking replacement functions ... OK * checking foreign function calls ... OK * checking R code for possible problems ... NOTE snps3PrimeTo: no visible binding for global variable 'geneLocs_hsa' snps5PrimeTo: no visible binding for global variable 'geneLocs_hsa' snpsNear: no visible binding for global variable 'geneLocs' * checking Rd files ... OK * checking Rd cross-references ... OK * checking for missing documentation entries ... OK * checking for code/documentation mismatches ... OK * checking Rd \usage sections ... OK * checking data for non-ASCII characters ... OK * checking line endings in C/C++/Fortran sources/headers ... OK * checking line endings in Makefiles ... OK * checking for portable use of $BLAS_LIBS ... OK * creating GGtools-Ex.R ... OK * checking examples ...
GGtools.Rcheck/00install.out:
installing R.css in E:/biocbld/bbs-2.1-bioc/meat/GGtools.Rcheck
---------- Making package GGtools ------------
adding build stamp to DESCRIPTION
installing NAMESPACE file and metadata
making DLL ...
making minfra.d from minfra.cc
g++-sjlj -Ie:/biocbld/bbs-2.1-bioc/R/include -Wall -O2 -c minfra.cc -o minfra.o
minfra.cc: In function 'matrix operator/(matrix&, matrix&)':
minfra.cc:459: warning: unused variable 'a2c'
minfra.cc: In function 'matrix delete_col(matrix, int)':
minfra.cc:545: warning: unused variable 'ncop'
minfra.cc:545: warning: unused variable 'nresel'
minfra.cc:545: warning: unused variable 'skip'
minfra.cc:546: warning: unused variable 'resbase'
minfra.cc:546: warning: unused variable 'Xbase'
minfra.cc: In function 'int split(matrix&, matrix&, matrix*)':
minfra.cc:1210: warning: unused variable 'j'
minfra.cc: In function 'matrix* split(matrix&, matrix&)':
minfra.cc:1245: warning: unused variable 'j'
windres --preprocessor="gcc-sjlj -E -xc -DRC_INVOKED" -I e:/biocbld/bbs-2.1-bioc/R/include -i GGtools_res.rc -o GGtools_res.o
g++-sjlj -shared -s -o GGtools.dll GGtools.def minfra.o GGtools_res.o -Le:/biocbld/bbs-2.1-bioc/R/bin -lR
... DLL made
installing DLL
installing R files
installing inst files
installing data files
installing man source files
installing indices
Loading required package: methods
not zipping data
installing help
Note: unmatched right brace in 'snpMeta-class' on or after line 44
Note: unmatched right brace in 'snpMeta-class.Rd' on or after line 44
>>> Building/Updating help pages for package 'GGtools'
Formats: text html latex example chm
GGfitter-class text html latex example chm
HM2rac text html latex example chm
HMworkflow text html latex example chm
Strains2rac text html latex example chm
geneLocs text html latex example chm
genoStrings text html latex example chm
make_racExSet text html latex example chm
oGtypeExSet-class text html latex example chm
plot_EvG text html latex example chm
racExSet-class text html latex example chm
snpMeta-class text html latex example chm
snpScreen text html latex example chm
snps text html latex example chm
Microsoft HTML Help Compiler 4.74.8702
Compiling e:\biocbld\bbs-2.1-bioc\meat\GGtools.Rcheck\00_pkg_src\GGtools\chm\GGtools.chm
Compile time: 0 minutes, 1 second
14 Topics
117 Local links
0 Internet links
1 Graphic
Created e:\biocbld\bbs-2.1-bioc\meat\GGtools.Rcheck\00_pkg_src\GGtools\chm\GGtools.chm, 39,860 bytes
Compression decreased file by 42,067 bytes.
preparing package GGtools for lazy loading
Loading required package: Biobase
Loading required package: tools
Welcome to Bioconductor
Vignettes contain introductory material. To view, type
'openVignette()'. To cite Bioconductor, see
'citation("Biobase")' and for packages 'citation(pkgname)'.
Loading required package: hgfocus
Loading required package: geneplotter
Loading required package: annotate
Loading required package: AnnotationDbi
Loading required package: DBI
Loading required package: RSQLite
Loading required package: xtable
Loading required package: lattice
KernSmooth 2.22 installed
Copyright M. P. Wand 1997
Loading required package: mgu74av2
adding MD5 sums
* DONE (GGtools)