Back to the "Multiple platform build/check report"
| Package 29/48 | Hostname | OS | Arch | BUILD | CHECK | BUILD BIN |
lumiBarnes1.3.2Pan DuLast Changed Date: 2007-08-03 10:24:06 -0700 Last Changed Rev: 406 | lamb1 | Linux (SUSE 10.1) | x86_64 | OK | OK | |
| lemming | Windows Server 2003 (32-bit) | x64 | OK | [ OK ] | OK |
| Package: lumiBarnes |
| Version: 1.3.2 |
| Command: D:\biocbld\bbs-2.0-bioc\R\bin\R.exe CMD check lumiBarnes_1.3.2.tar.gz |
| RetCode: 0 |
| Time: 47.5 seconds |
| Status: OK |
| CheckDir: lumiBarnes.Rcheck |
| Warnings: 0 |
* checking for working latex ... OK * using log directory 'D:/biocbld/bbs-2.0-data-experiment/meat/lumiBarnes.Rcheck' * using R version 2.5.1 (2007-06-27) * checking for file 'lumiBarnes/DESCRIPTION' ... OK * checking extension type ... Package * this is package 'lumiBarnes' version '1.3.2' * checking package dependencies ... OK * checking if this is a source package ... OK * checking whether package 'lumiBarnes' can be installed ... OK * checking package directory ... OK * checking for portable file names ... OK * checking DESCRIPTION meta-information ... OK * checking top-level files ... OK * checking index information ... OK * checking package subdirectories ... OK * checking whether the package can be loaded ... OK * checking whether the package can be loaded with stated dependencies ... OK * checking Rd files ... OK * checking Rd cross-references ... OK * checking for missing documentation entries ... OK * checking for code/documentation mismatches ... OK * checking Rd \usage sections ... OK * checking data for non-ASCII characters ... OK * creating lumiBarnes-Ex.R ... OK * checking examples ... OK * creating lumiBarnes-manual.tex ... OK * checking lumiBarnes-manual.tex ... OK
lumiBarnes.Rcheck/00install.out:
installing R.css in D:/biocbld/bbs-2.0-data-experiment/meat/lumiBarnes.Rcheck
---------- Making package lumiBarnes ------------
adding build stamp to DESCRIPTION
no R files in this package
installing data files
installing man source files
installing indices
not zipping data
installing help
>>> Building/Updating help pages for package 'lumiBarnes'
Formats: text html latex example chm
lumiBarnes text html latex example chm
Microsoft HTML Help Compiler 4.74.8702
Compiling d:\biocbld\bbs-2.0-data-experiment\meat\lumiBarnes.Rcheck\00_pkg_src\lumiBarnes\chm\lumiBarnes.chm
Compile time: 0 minutes, 0 seconds
2 Topics
2 Local links
0 Internet links
1 Graphic
Created d:\biocbld\bbs-2.0-data-experiment\meat\lumiBarnes.Rcheck\00_pkg_src\lumiBarnes\chm\lumiBarnes.chm, 16,411 bytes
Compression increased file by 9,203 bytes.
adding MD5 sums
* DONE (lumiBarnes)