Back to the "Multiple platform build/check report"
| Package 196/214 | Hostname | OS | Arch | BUILD | CHECK | BUILD BIN |
SNPchip1.0.0Robert ScharpfLast Changed Date: 2007-04-24 11:21:48 -0700 Last Changed Rev: 24214 | lamb1 | Linux (SUSE 10.1) | x86_64 | OK | OK | |
| wellington | Linux (SUSE 9.2) | i686 | OK | OK | ||
| churchill | Solaris 2.9 | sparc | OK | OK | ||
| lemming | Windows Server 2003 (32-bit) | x64 | OK | OK | OK | |
| liverpool | Windows Server 2003 R2 (32-bit) | x64 | OK | OK | [ OK ] | |
| derby | Mac OS X (10.4.9) | i686 | OK | OK |
| Package: SNPchip |
| Version: 1.0.0 |
| Command: E:\biocbld\bbs-2.0-bioc\R\bin\R.exe CMD INSTALL --build --library=SNPchip.BUILDBINinstdir SNPchip_1.0.0.tar.gz |
| RetCode: 0 |
| Time: 23.0 seconds |
| Status: OK |
| PackageFile: SNPchip_1.0.0.zip |
installing R.css in E:/biocbld/bbs-2.0-bioc/meat/SNPchip.BUILDBINinstdir
Using auto-selected zip options 'SNPchip-ZIPDATA=zip SNPchip-HELP=ziponly'
---------- Making package SNPchip ------------
adding build stamp to DESCRIPTION
installing NAMESPACE file and metadata
installing R files
save image
Loading required package: Biobase
Loading required package: tools
Welcome to Bioconductor
Vignettes contain introductory material. To view, type
'openVignette()'. To cite Bioconductor, see
'citation("Biobase")' and for packages 'citation(pkgname)'.
Loading required package: geneplotter
Loading required package: annotate
Loading required package: lattice
KernSmooth 2.22 installed
Copyright M. P. Wand 1997
Loading required package: oligo
Loading required package: affyio
Loading required package: splines
Loading required package: RSQLite
Loading required package: DBI
Loading required package: BufferedMatrix
Loading required package: BufferedMatrixMethods
This is the oligo package
installing inst files
installing data files
installing man source files
installing indices
zipping data
installing help
>>> Building/Updating help pages for package 'SNPchip'
Formats: text html latex example chm
AnnotatedSnpCallSet-class text html latex example chm
AnnotatedSnpCopyNumberSet-class text html latex example chm
AnnotatedSnpSet-class text html latex example chm
addFeatureData-method text html latex chm
alleleA text html latex example chm
alleleB text html latex example chm
annSnpset text html latex example chm
centromere text html latex example chm
chromosome text html latex chm
chromosomeAnnotation text html latex example chm
chromosomeSize text html latex example chm
coerce-methods text html latex chm
copyNumber text html latex chm
cytoband text html latex example chm
dbSnpId text html latex example chm
enzyme text html latex example chm
fData text html latex example chm
fragmentLength text html latex example chm
getSnpAnnotation text html latex example chm
hapmap text html latex example chm
initialize-methods text html latex chm
plotCytoband text html latex example chm
plotSnp text html latex example chm
position text html latex chm
show-methods text html latex chm
showSummary text html latex example chm
smoothSnp text html latex example chm
summary-methods text html latex chm
unsplitS4 text html latex example chm
zipping help files
Microsoft HTML Help Compiler 4.74.8702
Compiling e:\biocbld\bbs-2.0-bioc\meat\R.INSTALL.5000\SNPchip\chm\SNPchip.chm
Compile time: 0 minutes, 0 seconds
30 Topics
138 Local links
1 Internet link
1 Graphic
Created e:\biocbld\bbs-2.0-bioc\meat\R.INSTALL.5000\SNPchip\chm\SNPchip.chm, 41,240 bytes
Compression decreased file by 63,992 bytes.
adding MD5 sums
packaged installation of package 'SNPchip' as SNPchip_1.0.0.zip
* DONE (SNPchip)