Back to the "Multiple platform build/check report"
| Package 93/214 | Hostname | OS | Arch | BUILD | CHECK | BUILD BIN |
Heatplus1.6.0Alexander PlonerLast Changed Date: 2007-04-24 11:21:48 -0700 Last Changed Rev: 24214 | lamb1 | Linux (SUSE 10.1) | x86_64 | OK | OK | |
| wellington | Linux (SUSE 9.2) | i686 | OK | OK | ||
| churchill | Solaris 2.9 | sparc | OK | [ OK ] | ||
| lemming | Windows Server 2003 (32-bit) | x64 | OK | OK | OK | |
| liverpool | Windows Server 2003 R2 (32-bit) | x64 | OK | OK | OK | |
| derby | Mac OS X (10.4.9) | i686 | OK | OK |
| Package: Heatplus |
| Version: 1.6.0 |
| Command: /loc/biocbuild/bbs-2.0-bioc/R/bin/R CMD check Heatplus_1.6.0.tar.gz |
| RetCode: 0 |
| Time: 119.3 seconds |
| Status: OK |
| CheckDir: Heatplus.Rcheck |
| Warnings: 0 |
* checking for working latex ... OK * using log directory '/loc/biocbuild/bbs-2.0-bioc/meat/Heatplus.Rcheck' * using R version 2.5.0 (2007-04-23) * checking for file 'Heatplus/DESCRIPTION' ... OK * this is package 'Heatplus' version '1.6.0' * checking package dependencies ... OK * checking if this is a source package ... OK * checking whether package 'Heatplus' can be installed ... OK * checking package directory ... OK * checking for portable file names ... OK * checking for sufficient/correct file permissions ... OK * checking DESCRIPTION meta-information ... OK * checking top-level files ... OK * checking index information ... OK * checking package subdirectories ... OK * checking R files for non-ASCII characters ... OK * checking R files for syntax errors ... OK * checking whether the package can be loaded ... OK * checking whether the package can be loaded with stated dependencies ... OK * checking for unstated dependencies in R code ... OK * checking S3 generic/method consistency ... OK * checking replacement functions ... OK * checking foreign function calls ... OK * checking R code for possible problems ... OK * checking Rd files ... OK * checking Rd cross-references ... OK * checking for missing documentation entries ... OK * checking for code/documentation mismatches ... OK * checking Rd \usage sections ... OK * creating Heatplus-Ex.R ... OK * checking examples ... OK * checking package vignettes in 'inst/doc' ... OK * creating Heatplus-manual.tex ... OK * checking Heatplus-manual.tex ... OK
Heatplus.Rcheck/00install.out:
* Installing *source* package 'Heatplus' ...
** R
** inst
** help
>>> Building/Updating help pages for package 'Heatplus'
Formats: text html latex example
RGBColVec text html latex example
cutplot.dendrogram text html latex example
heatmap_2 text html latex example
heatmap_plus text html latex example
picketplot text html latex example
** building package indices ...
* DONE (Heatplus)