Back to the "Multiple platform build/check report"
| Package 186/188 | Hostname | OS | Arch | BUILD | CHECK | BUILD BIN | 
widgetInvoke1.6.0Jeff GentryLast Changed Date: 2006-10-03 12:16:03 -0700 Last Changed Rev: 20373  | lamb1 | Linux (SUSE 10.1) | x86_64 | OK | OK | |
| wellington | Linux (SUSE 9.2) | i686 | OK | OK | ||
| churchill | Solaris 2.9 | sparc | [ OK ] | OK | ||
| lemming | Windows Server 2003 | x86_64 | ERROR | skipped | skipped | 
| Package: widgetInvoke | 
| Version: 1.6.0 | 
| Command: /loc/biocbuild/bbs-1.9/R/bin/R CMD build widgetInvoke | 
| RetCode: 0 | 
| Time: 18.5 seconds | 
| Status: OK | 
| PackageFile: widgetInvoke_1.6.0.tar.gz | 
* checking for file 'widgetInvoke/DESCRIPTION' ... OK
* preparing 'widgetInvoke':
* checking DESCRIPTION meta-information ... OK
* installing the package to re-build vignettes
* Installing *source* package 'widgetInvoke' ...
** R
** inst
** save image
Loading required package: XML
Loading required package: RGtk
** help
 >>> Building/Updating help pages for package 'widgetInvoke'
     Formats: text html latex example 
  SimpleW-class                     text    html    latex   example
  createWF                          text    html    latex   example
  fun2wFun                          text    html    latex   example
  funArg-class                      text    html    latex   example
  testWIfun                         text    html    latex   example
  wFun-class                        text    html    latex   example
  widgetInvoke                      text    html    latex   example
  writeWIxml                        text    html    latex   example
** building package indices ...
* DONE (widgetInvoke)
* creating vignettes ... OK
* removing junk files
* checking for LF line-endings in source files
* checking for empty or unneeded directories
* building 'widgetInvoke_1.6.0.tar.gz'