Back to the "Multiple platform build/check report"
| Package 184/188 | Hostname | OS | Arch | BUILD | CHECK | BUILD BIN | 
weaver1.0.1Seth FalconLast Changed Date: 2006-10-10 20:56:20 -0700 Last Changed Rev: 20501  | lamb1 | Linux (SUSE 10.1) | x86_64 | OK | OK | |
| wellington | Linux (SUSE 9.2) | i686 | [ OK ] | OK | ||
| churchill | Solaris 2.9 | sparc | OK | OK | ||
| lemming | Windows Server 2003 | x86_64 | OK | OK | OK | 
| Package: weaver | 
| Version: 1.0.1 | 
| Command: /loc/biocbuild/bbs-1.9/R/bin/R CMD build weaver | 
| RetCode: 0 | 
| Time: 18.8 seconds | 
| Status: OK | 
| PackageFile: weaver_1.0.1.tar.gz | 
* checking for file 'weaver/DESCRIPTION' ... OK
* preparing 'weaver':
* checking DESCRIPTION meta-information ... OK
* installing the package to re-build vignettes
* Installing *source* package 'weaver' ...
** R
** inst
** preparing package for lazy loading
Loading required package: digest
Loading required package: tools
Loading required package: codetools
** help
 >>> Building/Updating help pages for package 'weaver'
     Formats: text html latex example 
  internal                          text    html    latex
  weaver                            text    html    latex   example
** building package indices ...
* DONE (weaver)
* creating vignettes ... OK
* removing junk files
* checking for LF line-endings in source files
* checking for empty or unneeded directories
* building 'weaver_1.0.1.tar.gz'