Back to the "Multiple platform build/check report"
| Package 172/188 | Hostname | OS | Arch | BUILD | CHECK | BUILD BIN | 
splots1.2.0Oleg SklyarLast Changed Date: 2006-10-03 12:16:03 -0700 Last Changed Rev: 20373  | lamb1 | Linux (SUSE 10.1) | x86_64 | OK | OK | |
| wellington | Linux (SUSE 9.2) | i686 | [ OK ] | OK | ||
| churchill | Solaris 2.9 | sparc | OK | OK | ||
| lemming | Windows Server 2003 | x86_64 | OK | OK | OK | 
| Package: splots | 
| Version: 1.2.0 | 
| Command: /loc/biocbuild/bbs-1.9/R/bin/R CMD build splots | 
| RetCode: 0 | 
| Time: 10.8 seconds | 
| Status: OK | 
| PackageFile: splots_1.2.0.tar.gz | 
* checking for file 'splots/DESCRIPTION' ... OK
* preparing 'splots':
* checking DESCRIPTION meta-information ... OK
* installing the package to re-build vignettes
* Installing *source* package 'splots' ...
** R
** data
** inst
** save image
Loading required package: grid
** help
 >>> Building/Updating help pages for package 'splots'
     Formats: text html latex example 
  internals                         text    html    latex
  plotScreen                        text    html    latex   example
** building package indices ...
* DONE (splots)
* creating vignettes ... OK
* removing junk files
* checking for LF line-endings in source files
* checking for empty or unneeded directories
* building 'splots_1.2.0.tar.gz'