Back to the "Multiple platform build/check report"
| Package 137/188 | Hostname | OS | Arch | BUILD | CHECK | BUILD BIN | 
ppiStats1.0.0Tony ChiangLast Changed Date: 2006-10-03 12:16:03 -0700 Last Changed Rev: 20373  | lamb1 | Linux (SUSE 10.1) | x86_64 | OK | OK | |
| wellington | Linux (SUSE 9.2) | i686 | OK | OK | ||
| churchill | Solaris 2.9 | sparc | OK | OK | ||
| lemming | Windows Server 2003 | x86_64 | OK | [ OK ] | OK | 
| Package: ppiStats | 
| Version: 1.0.0 | 
| Command: D:\biocbld\bbs-1.9\R\bin\R.exe CMD check ppiStats_1.0.0.tar.gz | 
| RetCode: 0 | 
| Time: 118.7 seconds | 
| Status: OK | 
| CheckDir: ppiStats.Rcheck | 
| Warnings: 0 | 
* checking for working latex ... OK * using log directory 'D:/biocbld/bbs-1.9/meat/ppiStats.Rcheck' * using R version 2.4.1 (2006-12-18) * checking for file 'ppiStats/DESCRIPTION' ... OK * this is package 'ppiStats' version '1.0.0' * checking package dependencies ... OK * checking if this is a source package ... OK * checking whether package 'ppiStats' can be installed ... OK * checking package directory ... OK * checking for portable file names ... OK * checking DESCRIPTION meta-information ... OK * checking top-level files ... OK * checking index information ... OK * checking package subdirectories ... OK * checking R files for syntax errors ... OK * checking R files for non-ASCII characters ... OK * checking whether the package can be loaded ... OK * checking whether the package can be loaded with stated dependencies ... OK * checking S3 generic/method consistency ... OK * checking replacement functions ... OK * checking foreign function calls ... OK * checking R code for possible problems ... OK * checking Rd files ... OK * checking Rd cross-references ... OK * checking for missing documentation entries ... OK * checking for code/documentation mismatches ... OK * checking Rd \usage sections ... OK * creating ppiStats-Ex.R ... OK * checking examples ... OK * checking package vignettes in 'inst/doc' ... OK * creating ppiStats-manual.tex ... OK * checking ppiStats-manual.tex ... OK
ppiStats.Rcheck/00install.out:
installing R.css in D:/biocbld/bbs-1.9/meat/ppiStats.Rcheck
---------- Making package ppiStats ------------
  adding build stamp to DESCRIPTION
  installing R files
  installing inst files
  installing man source files
  installing indices
  installing help
 >>> Building/Updating help pages for package 'ppiStats'
     Formats: text html latex example chm 
  assessSymmetry                    text    html    latex   example chm
  bpMatrix                          text    html    latex   example chm
  calcInOutDegStats                 text    html    latex   example chm
  estErrProbMethodOfMoments         text    html    latex   example chm
  genBPGraph                        text    html    latex   example chm
  idProteinErrorType                text    html    latex   example chm
  idProteinType                     text    html    latex   example chm
  nullDistDoublyTestedEdges         text    html    latex   example chm
Microsoft HTML Help Compiler 4.74.8702
Compiling d:\biocbld\bbs-1.9\meat\ppiStats.Rcheck\00_pkg_src\ppiStats\chm\ppiStats.chm
Compile time: 0 minutes, 0 seconds
9	Topics
18	Local links
2	Internet links
1	Graphic
Created d:\biocbld\bbs-1.9\meat\ppiStats.Rcheck\00_pkg_src\ppiStats\chm\ppiStats.chm, 28,419 bytes
Compression decreased file by 4,644 bytes.
  adding MD5 sums
* DONE (ppiStats)